BEGIN:VCALENDAR
VERSION:2.0
PRODID:-//The Grand Chapter of Connecticut, Order of the Eastern Star, Inc. - ECPv6.15.20//NONSGML v1.0//EN
CALSCALE:GREGORIAN
METHOD:PUBLISH
X-WR-CALNAME:The Grand Chapter of Connecticut, Order of the Eastern Star, Inc.
X-ORIGINAL-URL:https://ctoes.org
X-WR-CALDESC:Events for The Grand Chapter of Connecticut, Order of the Eastern Star, Inc.
REFRESH-INTERVAL;VALUE=DURATION:PT1H
X-Robots-Tag:noindex
X-PUBLISHED-TTL:PT1H
BEGIN:VTIMEZONE
TZID:America/New_York
BEGIN:DAYLIGHT
TZOFFSETFROM:-0500
TZOFFSETTO:-0400
TZNAME:EDT
DTSTART:20250309T070000
END:DAYLIGHT
BEGIN:STANDARD
TZOFFSETFROM:-0400
TZOFFSETTO:-0500
TZNAME:EST
DTSTART:20251102T060000
END:STANDARD
BEGIN:DAYLIGHT
TZOFFSETFROM:-0500
TZOFFSETTO:-0400
TZNAME:EDT
DTSTART:20260308T070000
END:DAYLIGHT
BEGIN:STANDARD
TZOFFSETFROM:-0400
TZOFFSETTO:-0500
TZNAME:EST
DTSTART:20261101T060000
END:STANDARD
BEGIN:DAYLIGHT
TZOFFSETFROM:-0500
TZOFFSETTO:-0400
TZNAME:EDT
DTSTART:20270314T070000
END:DAYLIGHT
BEGIN:STANDARD
TZOFFSETFROM:-0400
TZOFFSETTO:-0500
TZNAME:EST
DTSTART:20271107T060000
END:STANDARD
END:VTIMEZONE
BEGIN:VEVENT
DTSTART;TZID=America/New_York:20260609T193000
DTEND;TZID=America/New_York:20260609T220000
DTSTAMP:20260424T122019
CREATED:20260308T214131Z
LAST-MODIFIED:20260308T214135Z
UID:3785-1781033400-1781042400@ctoes.org
SUMMARY:Official Visitation at Betty Putnam #106
DESCRIPTION:
URL:https://ctoes.org/event/official-visitation-at-betty-putnam-106-4
LOCATION:Betty Putnam Chapter #106\, 265 Rt 169\, South Woodstock\, CT\, 06267\, United States
END:VEVENT
BEGIN:VEVENT
DTSTART;TZID=America/New_York:20260610T193000
DTEND;TZID=America/New_York:20260610T220000
DTSTAMP:20260424T122019
CREATED:20260308T214311Z
LAST-MODIFIED:20260309T114414Z
UID:3787-1781119800-1781128800@ctoes.org
SUMMARY:Official Visitation at Azalia #2
DESCRIPTION:Reception for Grand Ruth
URL:https://ctoes.org/event/official-visitation-at-azalia-2-3
LOCATION:Azalia Chapter #2\, 3960 Main Street\, Stratford\, CT\, 06614\, United States
END:VEVENT
BEGIN:VEVENT
DTSTART;TZID=America/New_York:20260613T090000
DTEND;TZID=America/New_York:20260613T150000
DTSTAMP:20260424T122019
CREATED:20260308T214456Z
LAST-MODIFIED:20260308T214502Z
UID:3789-1781341200-1781362800@ctoes.org
SUMMARY:Masonic Family Day
DESCRIPTION:More information to follow.
URL:https://ctoes.org/event/masonic-family-day-2
LOCATION:Masonicare\, 22 Masonic Avenue\, Wallingford\, Connecticut\, United States
END:VEVENT
BEGIN:VEVENT
DTSTART;TZID=America/New_York:20260615T180000
DTEND;TZID=America/New_York:20260615T190000
DTSTAMP:20260424T122019
CREATED:20260314T042933Z
LAST-MODIFIED:20260314T043927Z
UID:3831-1781546400-1781550000@ctoes.org
SUMMARY:Book Club hosted by Ephraim Kirby #75
DESCRIPTION:All are welcome to join the discussion.  Bring a bag lunch and discuss the book “Ship It” before the chapter meeting.  See the flyer for details.
URL:https://ctoes.org/event/book-club-hosted-by-ephraim-kirby
LOCATION:Ephraim Kirby Chapter #75\, 17 Meadow Street\, Litchfield\, CT\, 06759\, United States
CATEGORIES:Activity
END:VEVENT
BEGIN:VEVENT
DTSTART;TZID=America/New_York:20260617T193000
DTEND;TZID=America/New_York:20260617T220000
DTSTAMP:20260424T122019
CREATED:20260308T214628Z
LAST-MODIFIED:20260308T214634Z
UID:3791-1781724600-1781733600@ctoes.org
SUMMARY:Official Visitation at Lady Martha #103
DESCRIPTION:
URL:https://ctoes.org/event/official-visitation-at-lady-martha-103-3
LOCATION:Lady Martha Chapter #103\, 1 Fan Hill Road\, Monroe\, CT\, United States
END:VEVENT
BEGIN:VEVENT
DTSTART;TZID=America/New_York:20260626T080000
DTEND;TZID=America/New_York:20260626T170000
DTSTAMP:20260424T122019
CREATED:20260308T214957Z
LAST-MODIFIED:20260308T215005Z
UID:3793-1782460800-1782493200@ctoes.org
SUMMARY:CT IORG 100th Anniversary
DESCRIPTION:Save the date.   Details to follow
URL:https://ctoes.org/event/ct-iorg-100th-anniversary
LOCATION:CT
END:VEVENT
BEGIN:VEVENT
DTSTART;TZID=America/New_York:20260628T140000
DTEND;TZID=America/New_York:20260628T160000
DTSTAMP:20260424T122019
CREATED:20260308T215149Z
LAST-MODIFIED:20260308T215154Z
UID:3795-1782655200-1782662400@ctoes.org
SUMMARY:Crafts to benefit Alzheimers
DESCRIPTION:Profits to benefit the Alzheimer’s charity project
URL:https://ctoes.org/event/crafts-to-benefit-alzheimers
LOCATION:Good Intent Chapter #17\, 895 Main Street\, South Glastonbury\, CT\, 06073\, United States
END:VEVENT
END:VCALENDAR