BEGIN:VCALENDAR
VERSION:2.0
PRODID:-//The Grand Chapter of Connecticut, Order of the Eastern Star, Inc. - ECPv6.15.20//NONSGML v1.0//EN
CALSCALE:GREGORIAN
METHOD:PUBLISH
X-ORIGINAL-URL:https://ctoes.org
X-WR-CALDESC:Events for The Grand Chapter of Connecticut, Order of the Eastern Star, Inc.
REFRESH-INTERVAL;VALUE=DURATION:PT1H
X-Robots-Tag:noindex
X-PUBLISHED-TTL:PT1H
BEGIN:VTIMEZONE
TZID:America/New_York
BEGIN:DAYLIGHT
TZOFFSETFROM:-0500
TZOFFSETTO:-0400
TZNAME:EDT
DTSTART:20240310T070000
END:DAYLIGHT
BEGIN:STANDARD
TZOFFSETFROM:-0400
TZOFFSETTO:-0500
TZNAME:EST
DTSTART:20241103T060000
END:STANDARD
BEGIN:DAYLIGHT
TZOFFSETFROM:-0500
TZOFFSETTO:-0400
TZNAME:EDT
DTSTART:20250309T070000
END:DAYLIGHT
BEGIN:STANDARD
TZOFFSETFROM:-0400
TZOFFSETTO:-0500
TZNAME:EST
DTSTART:20251102T060000
END:STANDARD
BEGIN:DAYLIGHT
TZOFFSETFROM:-0500
TZOFFSETTO:-0400
TZNAME:EDT
DTSTART:20260308T070000
END:DAYLIGHT
BEGIN:STANDARD
TZOFFSETFROM:-0400
TZOFFSETTO:-0500
TZNAME:EST
DTSTART:20261101T060000
END:STANDARD
END:VTIMEZONE
BEGIN:VEVENT
DTSTART;TZID=America/New_York:20250904T193000
DTEND;TZID=America/New_York:20250904T220000
DTSTAMP:20260424T185538
CREATED:20250427T175645Z
LAST-MODIFIED:20250427T175734Z
UID:3117-1757014200-1757023200@ctoes.org
SUMMARY:Official Visitation at Golden Rod #34
DESCRIPTION:Associate Grand Patron
URL:https://ctoes.org/event/official-visitation-at-golden-rod-34-3
LOCATION:Golden Rod Chapter #34\, 263 Center Street\, West Haven\, CT\, 06516\, United States
CATEGORIES:Official
END:VEVENT
BEGIN:VEVENT
DTSTART;TZID=America/New_York:20250906T120000
DTEND;TZID=America/New_York:20250906T160000
DTSTAMP:20260424T185538
CREATED:20250901T161606Z
LAST-MODIFIED:20250901T161609Z
UID:3428-1757160000-1757174400@ctoes.org
SUMMARY:Youth Degree Day
DESCRIPTION:See Flyer for Details
URL:https://ctoes.org/event/youth-degree-day
LOCATION:New Britain Assembly #6\, 10 Mason Drive\, New Britain\, Connecticut\, 06052\, United States
END:VEVENT
BEGIN:VEVENT
DTSTART;TZID=America/New_York:20250907T130000
DTEND;TZID=America/New_York:20250907T160000
DTSTAMP:20260424T185538
CREATED:20250812T204000Z
LAST-MODIFIED:20250812T204012Z
UID:3358-1757250000-1757260800@ctoes.org
SUMMARY:Crimson Knights Association
DESCRIPTION:See Invitation for Details
URL:https://ctoes.org/event/crimson-knights-association
LOCATION:Good Intent Chapter #17\, 895 Main Street\, South Glastonbury\, CT\, 06073\, United States
CATEGORIES:Activity
END:VEVENT
BEGIN:VEVENT
DTSTART;TZID=America/New_York:20250910T193000
DTEND;TZID=America/New_York:20250910T220000
DTSTAMP:20260424T185538
CREATED:20250427T180638Z
LAST-MODIFIED:20250904T132239Z
UID:3124-1757532600-1757541600@ctoes.org
SUMMARY:Official Visitation at Frederica #110
DESCRIPTION:
URL:https://ctoes.org/event/official-visitation-at-frederica-110-3
LOCATION:Frederica Chapter #110\, 70 East Main Street\, Plainville\, CT\, 06062\, United States
CATEGORIES:Official
END:VEVENT
BEGIN:VEVENT
DTSTART;TZID=America/New_York:20250913T100000
DTEND;TZID=America/New_York:20250913T140000
DTSTAMP:20260424T185538
CREATED:20250220T190810Z
LAST-MODIFIED:20250812T203336Z
UID:2962-1757757600-1757772000@ctoes.org
SUMMARY:Prince Hall CT Grand Chapter
DESCRIPTION:See Invitation for Details
URL:https://ctoes.org/event/prince-hall-ct-grand-chapter
LOCATION:Holiday Inn Express\, New London\, 35 Governor Winthrop Blvd\, New London\, CT\, United States
CATEGORIES:Regional
END:VEVENT
BEGIN:VEVENT
DTSTART;TZID=America/New_York:20250914T100000
DTEND;TZID=America/New_York:20250914T130000
DTSTAMP:20260424T185538
CREATED:20250812T205049Z
LAST-MODIFIED:20250911T041556Z
UID:3366-1757844000-1757854800@ctoes.org
SUMMARY:Heart Walk - Gillette Castle
DESCRIPTION:The continuation of healthy walks next stop is at Gillette Castle \n\n\n\nClick the map below for navigation and directions.
URL:https://ctoes.org/event/heart-walk-gillette-castle
LOCATION:Gillette Castle State Park\, 67 River Rd\, East Haddam\, Connecticut\, 06423\, United States
CATEGORIES:Activity
END:VEVENT
BEGIN:VEVENT
DTSTART;TZID=America/New_York:20250916T193000
DTEND;TZID=America/New_York:20250916T220000
DTSTAMP:20260424T185538
CREATED:20250427T180052Z
LAST-MODIFIED:20250427T180054Z
UID:3120-1758051000-1758060000@ctoes.org
SUMMARY:Official Visitation at Mystic #20
DESCRIPTION:Reception for Grand Esther
URL:https://ctoes.org/event/official-visitation-at-mystic-20-3
LOCATION:Mystic Chapter #20\, 9 Country Club Road\, Cheshire\, CT\, 06410\, United States
CATEGORIES:Official
END:VEVENT
BEGIN:VEVENT
DTSTART;TZID=America/New_York:20250919T193000
DTEND;TZID=America/New_York:20250919T220000
DTSTAMP:20260424T185538
CREATED:20250427T180444Z
LAST-MODIFIED:20250427T180454Z
UID:3122-1758310200-1758319200@ctoes.org
SUMMARY:Joint Official at Good Intent #17 with Lady Washington #45
DESCRIPTION:Reception for Grand Marshal\, Grand Adah and Grand Martha
URL:https://ctoes.org/event/joint-official-at-good-intent-17-with-lady-washington-45
LOCATION:Good Intent Chapter #17\, 895 Main Street\, South Glastonbury\, CT\, 06073\, United States
CATEGORIES:Official
END:VEVENT
BEGIN:VEVENT
DTSTART;TZID=America/New_York:20250920T123000
DTEND;TZID=America/New_York:20250920T170000
DTSTAMP:20260424T185538
CREATED:20250911T041020Z
LAST-MODIFIED:20250911T041023Z
UID:3447-1758371400-1758387600@ctoes.org
SUMMARY:Secretaries & Treasurers Association
DESCRIPTION:Lunch is provided starting at 12:30 p.m.Meeting is located in the Board Room
URL:https://ctoes.org/event/secretaries-treasurers-association
LOCATION:Masonicare\, 22 Masonic Avenue\, Wallingford\, Connecticut\, United States
END:VEVENT
BEGIN:VEVENT
DTSTART;TZID=America/New_York:20250920T160000
DTEND;TZID=America/New_York:20250920T190000
DTSTAMP:20260424T185538
CREATED:20250905T043227Z
LAST-MODIFIED:20250905T043229Z
UID:3445-1758384000-1758394800@ctoes.org
SUMMARY:Calendar Dinner Hosted by Golden Rod #34
DESCRIPTION:See flyer for details
URL:https://ctoes.org/event/calendar-dinner-hosted-by-golden-rod-34
LOCATION:Golden Rod Chapter #34\, 263 Center Street\, West Haven\, CT\, 06516\, United States
CATEGORIES:Activity
END:VEVENT
BEGIN:VEVENT
DTSTART;TZID=America/New_York:20250924T193000
DTEND;TZID=America/New_York:20250924T220000
DTSTAMP:20260424T185538
CREATED:20250427T180856Z
LAST-MODIFIED:20250427T180858Z
UID:3126-1758742200-1758751200@ctoes.org
SUMMARY:Official Visitation at Sachem #57
DESCRIPTION:Home of Associate Grand Conductress \n\n\n\nReception for Grand Warder
URL:https://ctoes.org/event/official-visitation-at-sachem-57-3
LOCATION:Sachem Chapter #57\, 15 Route 165\, Preston\, CT\, 06365\, United States
CATEGORIES:Official
END:VEVENT
BEGIN:VEVENT
DTSTART;TZID=America/New_York:20250928T140000
DTEND;TZID=America/New_York:20250928T160000
DTSTAMP:20260424T185538
CREATED:20250411T202059Z
LAST-MODIFIED:20250625T214930Z
UID:3053-1759068000-1759075200@ctoes.org
SUMMARY:Card Making to support WGM Special Projects
DESCRIPTION:See Updated Flyer for details \n\n\n\nExample Card Kits:   Holly Jolly     Woodlands
URL:https://ctoes.org/event/card-making-to-support-wgm-special-projects
LOCATION:Good Intent Chapter #17\, 895 Main Street\, South Glastonbury\, CT\, 06073\, United States
CATEGORIES:Activity
END:VEVENT
END:VCALENDAR