BEGIN:VCALENDAR
VERSION:2.0
PRODID:-//The Grand Chapter of Connecticut, Order of the Eastern Star, Inc. - ECPv6.15.20//NONSGML v1.0//EN
CALSCALE:GREGORIAN
METHOD:PUBLISH
X-ORIGINAL-URL:https://ctoes.org
X-WR-CALDESC:Events for The Grand Chapter of Connecticut, Order of the Eastern Star, Inc.
REFRESH-INTERVAL;VALUE=DURATION:PT1H
X-Robots-Tag:noindex
X-PUBLISHED-TTL:PT1H
BEGIN:VTIMEZONE
TZID:America/New_York
BEGIN:DAYLIGHT
TZOFFSETFROM:-0500
TZOFFSETTO:-0400
TZNAME:EDT
DTSTART:20240310T070000
END:DAYLIGHT
BEGIN:STANDARD
TZOFFSETFROM:-0400
TZOFFSETTO:-0500
TZNAME:EST
DTSTART:20241103T060000
END:STANDARD
BEGIN:DAYLIGHT
TZOFFSETFROM:-0500
TZOFFSETTO:-0400
TZNAME:EDT
DTSTART:20250309T070000
END:DAYLIGHT
BEGIN:STANDARD
TZOFFSETFROM:-0400
TZOFFSETTO:-0500
TZNAME:EST
DTSTART:20251102T060000
END:STANDARD
BEGIN:DAYLIGHT
TZOFFSETFROM:-0500
TZOFFSETTO:-0400
TZNAME:EDT
DTSTART:20260308T070000
END:DAYLIGHT
BEGIN:STANDARD
TZOFFSETFROM:-0400
TZOFFSETTO:-0500
TZNAME:EST
DTSTART:20261101T060000
END:STANDARD
END:VTIMEZONE
BEGIN:VEVENT
DTSTART;TZID=America/New_York:20250626T080000
DTEND;TZID=America/New_York:20250706T170000
DTSTAMP:20260424T213624
CREATED:20240505T112237Z
LAST-MODIFIED:20240806T141120Z
UID:2347-1750924800-1751821200@ctoes.org
SUMMARY:CT OES Hawaiian Cruise
DESCRIPTION:Join us for a week in Hawaii. While some details are being finalized\, check out the attached flyer for information and pricing. \n\n\n\nAll cabins and pricing is based on two to a room.  Pricing for singles and triples available upon request. \n\n\n\nEveryone will require a Real ID compliant driver’s license by the start of this trip in June.  If they have a current passport that will be OK too. \n\n\n\nYou can begin online registration for the trip\, now. Once we know how many people are going by Aug. 11\, we can look at locking in flights.Click the link below to register and make a deposit. \n\n\n\nTrip Registration
URL:https://ctoes.org/event/ct-oes-hawaiian-cruise
LOCATION:CT
CATEGORIES:Trip
END:VEVENT
BEGIN:VEVENT
DTSTART;TZID=America/New_York:20250707T080000
DTEND;TZID=America/New_York:20250709T170000
DTSTAMP:20260424T213624
CREATED:20250220T170523Z
LAST-MODIFIED:20250423T011417Z
UID:2937-1751875200-1752080400@ctoes.org
SUMMARY:Nova Scotia / PEI Grand Chapter
DESCRIPTION:Details TBD
URL:https://ctoes.org/event/nova-scotia-pei-grand-chapter
LOCATION:CT
CATEGORIES:Regional
END:VEVENT
BEGIN:VEVENT
DTSTART;TZID=America/New_York:20250709T190000
DTEND;TZID=America/New_York:20250709T220000
DTSTAMP:20260424T213624
CREATED:20250423T011159Z
LAST-MODIFIED:20250423T011345Z
UID:3100-1752087600-1752098400@ctoes.org
SUMMARY:Grocery Bingo\, hosted by Lady Martha #103
DESCRIPTION:See Flyer for details
URL:https://ctoes.org/event/grocery-bingo-hosted-by-lady-martha-103
LOCATION:Lady Martha Chapter #103\, 1 Fan Hill Road\, Monroe\, CT\, United States
CATEGORIES:Activity
END:VEVENT
BEGIN:VEVENT
DTSTART;TZID=America/New_York:20250710T080000
DTEND;TZID=America/New_York:20250712T170000
DTSTAMP:20260424T213624
CREATED:20250220T171223Z
LAST-MODIFIED:20250220T171226Z
UID:2939-1752134400-1752339600@ctoes.org
SUMMARY:New Brunswick Grand Chapter
DESCRIPTION:
URL:https://ctoes.org/event/new-brunswick-grand-chapter-2
LOCATION:Fredericton Inn\, 1315 Regent St\, Fredericton\, New Brunswick\, Canada
CATEGORIES:Regional
END:VEVENT
BEGIN:VEVENT
DTSTART;TZID=America/New_York:20250711T080000
DTEND;TZID=America/New_York:20250713T170000
DTSTAMP:20260424T213624
CREATED:20250220T190637Z
LAST-MODIFIED:20250220T190702Z
UID:2960-1752220800-1752426000@ctoes.org
SUMMARY:Demolay Conclave
DESCRIPTION:University of New HavenDetails to Follow
URL:https://ctoes.org/event/demolay-conclave-3
LOCATION:CT
CATEGORIES:Regional
END:VEVENT
BEGIN:VEVENT
DTSTART;TZID=America/New_York:20250713T080000
DTEND;TZID=America/New_York:20250713T170000
DTSTAMP:20260424T213624
CREATED:20250427T174604Z
LAST-MODIFIED:20250427T185512Z
UID:3111-1752393600-1752426000@ctoes.org
SUMMARY:Demolay Installation of Officers
DESCRIPTION:UNH West Haven.   Details to follow
URL:https://ctoes.org/event/demolay-installation-of-officers
LOCATION:CT
CATEGORIES:Regional
END:VEVENT
BEGIN:VEVENT
DTSTART;TZID=America/New_York:20250719T180000
DTEND;TZID=America/New_York:20250719T210000
DTSTAMP:20260424T213624
CREATED:20250220T172057Z
LAST-MODIFIED:20250422T165922Z
UID:2943-1752948000-1752958800@ctoes.org
SUMMARY:Yard Goats
DESCRIPTION:See flyer for details
URL:https://ctoes.org/event/yard-goats
LOCATION:Dunkin’ Park\, 1214 Main Street\, Hartford\, Connecticut\, 06103\, United States
CATEGORIES:Activity
END:VEVENT
BEGIN:VEVENT
DTSTART;TZID=America/New_York:20250723T190000
DTEND;TZID=America/New_York:20250723T220000
DTSTAMP:20260424T213624
CREATED:20250423T011916Z
LAST-MODIFIED:20250423T012841Z
UID:3102-1753297200-1753308000@ctoes.org
SUMMARY:Grocery Bingo\, hosted by Lady Martha #103
DESCRIPTION:See Flyer for details
URL:https://ctoes.org/event/grocery-bingo-hosted-by-lady-martha-103-2
LOCATION:Lady Martha Chapter #103\, 1 Fan Hill Road\, Monroe\, CT\, United States
CATEGORIES:Activity
END:VEVENT
BEGIN:VEVENT
DTSTART;TZID=America/New_York:20250726T093000
DTEND;TZID=America/New_York:20250726T190000
DTSTAMP:20260424T213624
CREATED:20250220T172612Z
LAST-MODIFIED:20250220T185159Z
UID:2949-1753522200-1753556400@ctoes.org
SUMMARY:Mystery Trip
DESCRIPTION:See flyer for details
URL:https://ctoes.org/event/mystery-trip-2
LOCATION:Mystery Trip Meeting Location\, Milldale Park-n-Ride\, 1925 Highland Ave\, Cheshire\, Connecticut\, 06410\, United States
CATEGORIES:Activity
END:VEVENT
END:VCALENDAR