BEGIN:VCALENDAR
VERSION:2.0
PRODID:-//The Grand Chapter of Connecticut, Order of the Eastern Star, Inc. - ECPv6.15.20//NONSGML v1.0//EN
CALSCALE:GREGORIAN
METHOD:PUBLISH
X-WR-CALNAME:The Grand Chapter of Connecticut, Order of the Eastern Star, Inc.
X-ORIGINAL-URL:https://ctoes.org
X-WR-CALDESC:Events for The Grand Chapter of Connecticut, Order of the Eastern Star, Inc.
REFRESH-INTERVAL;VALUE=DURATION:PT1H
X-Robots-Tag:noindex
X-PUBLISHED-TTL:PT1H
BEGIN:VTIMEZONE
TZID:America/New_York
BEGIN:DAYLIGHT
TZOFFSETFROM:-0500
TZOFFSETTO:-0400
TZNAME:EDT
DTSTART:20230312T070000
END:DAYLIGHT
BEGIN:STANDARD
TZOFFSETFROM:-0400
TZOFFSETTO:-0500
TZNAME:EST
DTSTART:20231105T060000
END:STANDARD
BEGIN:DAYLIGHT
TZOFFSETFROM:-0500
TZOFFSETTO:-0400
TZNAME:EDT
DTSTART:20240310T070000
END:DAYLIGHT
BEGIN:STANDARD
TZOFFSETFROM:-0400
TZOFFSETTO:-0500
TZNAME:EST
DTSTART:20241103T060000
END:STANDARD
BEGIN:DAYLIGHT
TZOFFSETFROM:-0500
TZOFFSETTO:-0400
TZNAME:EDT
DTSTART:20250309T070000
END:DAYLIGHT
BEGIN:STANDARD
TZOFFSETFROM:-0400
TZOFFSETTO:-0500
TZNAME:EST
DTSTART:20251102T060000
END:STANDARD
END:VTIMEZONE
BEGIN:VEVENT
DTSTART;TZID=America/New_York:20241101T080000
DTEND;TZID=America/New_York:20241130T170000
DTSTAMP:20260425T113557
CREATED:20241009T150111Z
LAST-MODIFIED:20241009T150113Z
UID:2698-1730448000-1732986000@ctoes.org
SUMMARY:Ruffle for Service Dogs
DESCRIPTION:Join the raffle where every day is a winner.   All proceeds support service dogs. \n\n\n\nSee Flyer for details
URL:https://ctoes.org/event/ruffle-for-service-dogs
LOCATION:CT
END:VEVENT
BEGIN:VEVENT
DTSTART;TZID=America/New_York:20241108T193000
DTEND;TZID=America/New_York:20241108T220000
DTSTAMP:20260425T113557
CREATED:20240505T180000Z
LAST-MODIFIED:20240924T150914Z
UID:2315-1731094200-1731103200@ctoes.org
SUMMARY:Official Visitation at Mystic #20
DESCRIPTION:Rescheduled from September 27thReception for Grand Ruth and Grand WarderSee Invitation for details
URL:https://ctoes.org/event/official-visitation-at-mystic-20-2
LOCATION:Mystic Chapter #20\, 9 Country Club Road\, Cheshire\, CT\, 06410\, United States
CATEGORIES:Official
END:VEVENT
BEGIN:VEVENT
DTSTART;TZID=America/New_York:20241109T130000
DTEND;TZID=America/New_York:20241109T170000
DTSTAMP:20260425T113557
CREATED:20240505T180000Z
LAST-MODIFIED:20240501T152046Z
UID:2328-1731157200-1731171600@ctoes.org
SUMMARY:Official Visitation at Radiant #11
DESCRIPTION:
URL:https://ctoes.org/event/official-visitation-at-radiant-11-2
LOCATION:Radiant Chapter #11\, 375 Boston Post Road\, North Windham\, CT\, 06256\, United States
CATEGORIES:Official
END:VEVENT
BEGIN:VEVENT
DTSTART;TZID=America/New_York:20241110T130000
DTEND;TZID=America/New_York:20241110T170000
DTSTAMP:20260425T113557
CREATED:20240623T191227Z
LAST-MODIFIED:20241028T013148Z
UID:2488-1731243600-1731258000@ctoes.org
SUMMARY:Reception for WGM / WGP
DESCRIPTION:See Invitation for Details \n\n\n\nNote: Attire for the WGM and WGP‘s reception has been changed to semi formal\, Hawaiian attire is acceptable.
URL:https://ctoes.org/event/reception-for-wgm-wgp
LOCATION:Bridgehouse at Ashlar Village\, Ashlar Village Rd\, Wallingford\, Connecticut\, 06492\, United States
CATEGORIES:Activity
END:VEVENT
BEGIN:VEVENT
DTSTART;TZID=America/New_York:20241113T193000
DTEND;TZID=America/New_York:20241113T220000
DTSTAMP:20260425T113557
CREATED:20240505T180000Z
LAST-MODIFIED:20240501T152222Z
UID:2330-1731526200-1731535200@ctoes.org
SUMMARY:Official Visitation at Sachem #57
DESCRIPTION:
URL:https://ctoes.org/event/official-visitation-at-sachem-57-2
LOCATION:Sachem Chapter #57\, 15 Route 165\, Preston\, CT\, 06365\, United States
CATEGORIES:Official
END:VEVENT
BEGIN:VEVENT
DTSTART;TZID=America/New_York:20241123T170000
DTEND;TZID=America/New_York:20241123T200000
DTSTAMP:20260425T113557
CREATED:20241009T145813Z
LAST-MODIFIED:20241009T145815Z
UID:2696-1732381200-1732392000@ctoes.org
SUMMARY:Turkey Bingo\, hosted by Temple #53
DESCRIPTION:See Flyer for details
URL:https://ctoes.org/event/turkey-bingo-hosted-by-temple-53-2
LOCATION:Temple Chapter #53\, 1559 Main Street\, South Windsor\, CT\, 06074\, United States
END:VEVENT
END:VCALENDAR