BEGIN:VCALENDAR
VERSION:2.0
PRODID:-//The Grand Chapter of Connecticut, Order of the Eastern Star, Inc. - ECPv6.15.20//NONSGML v1.0//EN
CALSCALE:GREGORIAN
METHOD:PUBLISH
X-WR-CALNAME:The Grand Chapter of Connecticut, Order of the Eastern Star, Inc.
X-ORIGINAL-URL:https://ctoes.org
X-WR-CALDESC:Events for The Grand Chapter of Connecticut, Order of the Eastern Star, Inc.
REFRESH-INTERVAL;VALUE=DURATION:PT1H
X-Robots-Tag:noindex
X-PUBLISHED-TTL:PT1H
BEGIN:VTIMEZONE
TZID:America/New_York
BEGIN:DAYLIGHT
TZOFFSETFROM:-0500
TZOFFSETTO:-0400
TZNAME:EDT
DTSTART:20230312T070000
END:DAYLIGHT
BEGIN:STANDARD
TZOFFSETFROM:-0400
TZOFFSETTO:-0500
TZNAME:EST
DTSTART:20231105T060000
END:STANDARD
BEGIN:DAYLIGHT
TZOFFSETFROM:-0500
TZOFFSETTO:-0400
TZNAME:EDT
DTSTART:20240310T070000
END:DAYLIGHT
BEGIN:STANDARD
TZOFFSETFROM:-0400
TZOFFSETTO:-0500
TZNAME:EST
DTSTART:20241103T060000
END:STANDARD
BEGIN:DAYLIGHT
TZOFFSETFROM:-0500
TZOFFSETTO:-0400
TZNAME:EDT
DTSTART:20250309T070000
END:DAYLIGHT
BEGIN:STANDARD
TZOFFSETFROM:-0400
TZOFFSETTO:-0500
TZNAME:EST
DTSTART:20251102T060000
END:STANDARD
END:VTIMEZONE
BEGIN:VEVENT
DTSTART;TZID=America/New_York:20241005T130000
DTEND;TZID=America/New_York:20241005T170000
DTSTAMP:20260425T132444
CREATED:20240912T121905Z
LAST-MODIFIED:20240912T121919Z
UID:2660-1728133200-1728147600@ctoes.org
SUMMARY:Bingo Night\, hosted by Lucia #25
DESCRIPTION:See Flyer for details
URL:https://ctoes.org/event/bingo-night-hosted-by-lucia-25
LOCATION:Grace and St John’s Episcopal Church\, 2927 Dixwell Ave\, Hamden\, Connecticut\, United States
END:VEVENT
BEGIN:VEVENT
DTSTART;TZID=America/New_York:20241006T140000
DTEND;TZID=America/New_York:20241006T170000
DTSTAMP:20260425T132444
CREATED:20240820T165144Z
LAST-MODIFIED:20240820T165226Z
UID:2617-1728223200-1728234000@ctoes.org
SUMMARY:Lighthouse Cruise\, hosted by Sachem #57
DESCRIPTION:See flyer for details
URL:https://ctoes.org/event/lighthouse-cruise-hosted-by-sachem-57
LOCATION:Cross Sound Ferry\, 2 Ferry St\, New London\, Connecticut\, United States
CATEGORIES:Activity
END:VEVENT
BEGIN:VEVENT
DTSTART;TZID=America/New_York:20241008T193000
DTEND;TZID=America/New_York:20241008T220000
DTSTAMP:20260425T132444
CREATED:20240505T180000Z
LAST-MODIFIED:20240501T150937Z
UID:2320-1728415800-1728424800@ctoes.org
SUMMARY:Official Visitation at Betty Putnam #106
DESCRIPTION:
URL:https://ctoes.org/event/official-visitation-at-betty-putnam-106-2
LOCATION:Betty Putnam Chapter #106\, 265 Rt 169\, South Woodstock\, CT\, 06267\, United States
CATEGORIES:Official
END:VEVENT
BEGIN:VEVENT
DTSTART;TZID=America/New_York:20241009T133000
DTEND;TZID=America/New_York:20241009T170000
DTSTAMP:20260425T132444
CREATED:20240505T180000Z
LAST-MODIFIED:20240608T142804Z
UID:2322-1728480600-1728493200@ctoes.org
SUMMARY:Official Visitation at Ashlar #116
DESCRIPTION:
URL:https://ctoes.org/event/official-visitation-at-ashlar-116-2
LOCATION:Ashlar Chapter #116\, Ashlar Village - Bridgehouse\,Cheshire Rd\, Wallingford\, CT\, 06492\, United States
CATEGORIES:Official
END:VEVENT
BEGIN:VEVENT
DTSTART;TZID=America/New_York:20241012T100000
DTEND;TZID=America/New_York:20241012T130000
DTSTAMP:20260425T132444
CREATED:20241008T195135Z
LAST-MODIFIED:20241008T195138Z
UID:2688-1728727200-1728738000@ctoes.org
SUMMARY:Heart Association Walk - Highlawn Forest
DESCRIPTION:
URL:https://ctoes.org/event/heart-association-walk-highlawn-forest
LOCATION:Highlawn Forest Trails\, 16 Meriden Rd\, Rockfall\, Connecticut\, 06481\, United States
END:VEVENT
BEGIN:VEVENT
DTSTART;TZID=America/New_York:20241013T130000
DTEND;TZID=America/New_York:20241013T170000
DTSTAMP:20260425T132444
CREATED:20240511T151656Z
LAST-MODIFIED:20240511T151658Z
UID:2380-1728824400-1728838800@ctoes.org
SUMMARY:Azalia #2 150th Anniversary
DESCRIPTION:See Flyer for Details
URL:https://ctoes.org/event/azalia-2-150th-anniversary
LOCATION:Azalia Chapter #2\, 3960 Main Street\, Stratford\, CT\, 06614\, United States
CATEGORIES:Activity
END:VEVENT
BEGIN:VEVENT
DTSTART;TZID=America/New_York:20241016T193000
DTEND;TZID=America/New_York:20241016T220000
DTSTAMP:20260425T132444
CREATED:20240505T180000Z
LAST-MODIFIED:20240904T182147Z
UID:2324-1729107000-1729116000@ctoes.org
SUMMARY:Official Visitation at Lady Martha #103
DESCRIPTION:See Invitation for details
URL:https://ctoes.org/event/offical-visitation-at-lady-martha-103
LOCATION:Lady Martha Chapter #103\, 1 Fan Hill Road\, Monroe\, CT\, United States
CATEGORIES:Official
END:VEVENT
BEGIN:VEVENT
DTSTART;TZID=America/New_York:20241019T180000
DTEND;TZID=America/New_York:20241019T200000
DTSTAMP:20260425T132444
CREATED:20241014T233521Z
LAST-MODIFIED:20241016T210742Z
UID:2710-1729360800-1729368000@ctoes.org
SUMMARY:Grand Worthy Advisor Reception
DESCRIPTION:See Invitation for Details
URL:https://ctoes.org/event/grand-worthy-advisor-reception
LOCATION:St Matthew School\, Bristol\, 33 Welch Drive\, Bristol\, Connecticut\, United States
CATEGORIES:Activity
END:VEVENT
BEGIN:VEVENT
DTSTART;TZID=America/New_York:20241020T130000
DTEND;TZID=America/New_York:20241020T160000
DTSTAMP:20260425T132444
CREATED:20241014T233837Z
LAST-MODIFIED:20241014T233839Z
UID:2713-1729429200-1729440000@ctoes.org
SUMMARY:HKA Association Meeting
DESCRIPTION:Pot Luck at 1pm\,     Auction/Meeting at 2pmTheme is Halloween and fall.   Meeting will define committees for Grand Chapter.
URL:https://ctoes.org/event/hka-association-meeting-2
LOCATION:Good Intent Chapter #17\, 895 Main Street\, South Glastonbury\, CT\, 06073\, United States
END:VEVENT
BEGIN:VEVENT
DTSTART;TZID=America/New_York:20241023T193000
DTEND;TZID=America/New_York:20241023T220000
DTSTAMP:20260425T132444
CREATED:20240505T180000Z
LAST-MODIFIED:20240501T151455Z
UID:2326-1729711800-1729720800@ctoes.org
SUMMARY:Official Visitation at Pomperaug #88
DESCRIPTION:
URL:https://ctoes.org/event/official-visitation-at-pomperaug-88-2
LOCATION:Pomperaug Chapter #88\, 477 Main Street South\, Woodbury\, CT\, 06798\, United States
CATEGORIES:Official
END:VEVENT
END:VCALENDAR