BEGIN:VCALENDAR
VERSION:2.0
PRODID:-//The Grand Chapter of Connecticut, Order of the Eastern Star, Inc. - ECPv6.15.20//NONSGML v1.0//EN
CALSCALE:GREGORIAN
METHOD:PUBLISH
X-WR-CALNAME:The Grand Chapter of Connecticut, Order of the Eastern Star, Inc.
X-ORIGINAL-URL:https://ctoes.org
X-WR-CALDESC:Events for The Grand Chapter of Connecticut, Order of the Eastern Star, Inc.
REFRESH-INTERVAL;VALUE=DURATION:PT1H
X-Robots-Tag:noindex
X-PUBLISHED-TTL:PT1H
BEGIN:VTIMEZONE
TZID:America/New_York
BEGIN:DAYLIGHT
TZOFFSETFROM:-0500
TZOFFSETTO:-0400
TZNAME:EDT
DTSTART:20230312T070000
END:DAYLIGHT
BEGIN:STANDARD
TZOFFSETFROM:-0400
TZOFFSETTO:-0500
TZNAME:EST
DTSTART:20231105T060000
END:STANDARD
BEGIN:DAYLIGHT
TZOFFSETFROM:-0500
TZOFFSETTO:-0400
TZNAME:EDT
DTSTART:20240310T070000
END:DAYLIGHT
BEGIN:STANDARD
TZOFFSETFROM:-0400
TZOFFSETTO:-0500
TZNAME:EST
DTSTART:20241103T060000
END:STANDARD
BEGIN:DAYLIGHT
TZOFFSETFROM:-0500
TZOFFSETTO:-0400
TZNAME:EDT
DTSTART:20250309T070000
END:DAYLIGHT
BEGIN:STANDARD
TZOFFSETFROM:-0400
TZOFFSETTO:-0500
TZNAME:EST
DTSTART:20251102T060000
END:STANDARD
END:VTIMEZONE
BEGIN:VEVENT
DTSTART;TZID=America/New_York:20240710T190000
DTEND;TZID=America/New_York:20240710T220000
DTSTAMP:20260425T175602
CREATED:20240628T230327Z
LAST-MODIFIED:20240628T231100Z
UID:2518-1720638000-1720648800@ctoes.org
SUMMARY:Grocery Bingo at Lady Martha #103
DESCRIPTION:Join us for Summer Bingo\, July 10/24\, August 14/28See Flyer for Details.
URL:https://ctoes.org/event/grocery-bingo-at-lady-martha-103
LOCATION:Lady Martha Chapter #103\, 1 Fan Hill Road\, Monroe\, CT\, United States
CATEGORIES:Activity
END:VEVENT
BEGIN:VEVENT
DTSTART;TZID=America/New_York:20240713T181000
DTEND;TZID=America/New_York:20240713T210000
DTSTAMP:20260425T175602
CREATED:20240411T234554Z
LAST-MODIFIED:20240501T145112Z
UID:2241-1720894200-1720904400@ctoes.org
SUMMARY:Yard Goats Game\, Dunkin Stadium
DESCRIPTION:Detail TBD
URL:https://ctoes.org/event/yard-goats-game-dunkin-stadium
LOCATION:CT
CATEGORIES:Activity
END:VEVENT
BEGIN:VEVENT
DTSTART;TZID=America/New_York:20240714T100000
DTEND;TZID=America/New_York:20240714T170000
DTSTAMP:20260425T175602
CREATED:20240428T225820Z
LAST-MODIFIED:20240501T145105Z
UID:2265-1720951200-1720976400@ctoes.org
SUMMARY:DeMolay Conclave
DESCRIPTION:West Haven at UNH.   Details to follow
URL:https://ctoes.org/event/demolay-conclave-2
LOCATION:CT
CATEGORIES:Regional
END:VEVENT
BEGIN:VEVENT
DTSTART;TZID=America/New_York:20240724T190000
DTEND;TZID=America/New_York:20240724T220000
DTSTAMP:20260425T175602
CREATED:20240628T230649Z
LAST-MODIFIED:20240628T230651Z
UID:2520-1721847600-1721858400@ctoes.org
SUMMARY:Grocery Bingo at Lady Martha #103
DESCRIPTION:Join us for Summer Bingo\, July 10/24\, August 14/28See Flyer for Details.
URL:https://ctoes.org/event/grocery-bingo-at-lady-martha-103-2
LOCATION:Lady Martha Chapter #103\, 1 Fan Hill Road\, Monroe\, CT\, United States
CATEGORIES:Activity
END:VEVENT
BEGIN:VEVENT
DTSTART;TZID=America/New_York:20240727T093000
DTEND;TZID=America/New_York:20240727T170000
DTSTAMP:20260425T175602
CREATED:20240428T183807Z
LAST-MODIFIED:20240726T173813Z
UID:2263-1722072600-1722099600@ctoes.org
SUMMARY:Mystery Trip
DESCRIPTION:See Flyer for Details
URL:https://ctoes.org/event/mystery-trip
LOCATION:Cheshire Milldale Commuter Lot\, Milldale Park & Ride (Highland Ave)\, Cheshire\, Connecticut\, 06410\, United States
CATEGORIES:Trip
ORGANIZER;CN="Janet Berry":MAILTO:smokeyberry@gmail.com
END:VEVENT
END:VCALENDAR