BEGIN:VCALENDAR
VERSION:2.0
PRODID:-//The Grand Chapter of Connecticut, Order of the Eastern Star, Inc. - ECPv6.15.20//NONSGML v1.0//EN
CALSCALE:GREGORIAN
METHOD:PUBLISH
X-WR-CALNAME:The Grand Chapter of Connecticut, Order of the Eastern Star, Inc.
X-ORIGINAL-URL:https://ctoes.org
X-WR-CALDESC:Events for The Grand Chapter of Connecticut, Order of the Eastern Star, Inc.
REFRESH-INTERVAL;VALUE=DURATION:PT1H
X-Robots-Tag:noindex
X-PUBLISHED-TTL:PT1H
BEGIN:VTIMEZONE
TZID:America/New_York
BEGIN:DAYLIGHT
TZOFFSETFROM:-0500
TZOFFSETTO:-0400
TZNAME:EDT
DTSTART:20230312T070000
END:DAYLIGHT
BEGIN:STANDARD
TZOFFSETFROM:-0400
TZOFFSETTO:-0500
TZNAME:EST
DTSTART:20231105T060000
END:STANDARD
BEGIN:DAYLIGHT
TZOFFSETFROM:-0500
TZOFFSETTO:-0400
TZNAME:EDT
DTSTART:20240310T070000
END:DAYLIGHT
BEGIN:STANDARD
TZOFFSETFROM:-0400
TZOFFSETTO:-0500
TZNAME:EST
DTSTART:20241103T060000
END:STANDARD
BEGIN:DAYLIGHT
TZOFFSETFROM:-0500
TZOFFSETTO:-0400
TZNAME:EDT
DTSTART:20250309T070000
END:DAYLIGHT
BEGIN:STANDARD
TZOFFSETFROM:-0400
TZOFFSETTO:-0500
TZNAME:EST
DTSTART:20251102T060000
END:STANDARD
BEGIN:DAYLIGHT
TZOFFSETFROM:-0500
TZOFFSETTO:-0400
TZNAME:EDT
DTSTART:20260308T070000
END:DAYLIGHT
BEGIN:STANDARD
TZOFFSETFROM:-0400
TZOFFSETTO:-0500
TZNAME:EST
DTSTART:20261101T060000
END:STANDARD
END:VTIMEZONE
BEGIN:VEVENT
DTSTART;TZID=America/New_York:20250626T080000
DTEND;TZID=America/New_York:20250706T170000
DTSTAMP:20260425T123915
CREATED:20240505T112237Z
LAST-MODIFIED:20240806T141120Z
UID:2347-1750924800-1751821200@ctoes.org
SUMMARY:CT OES Hawaiian Cruise
DESCRIPTION:Join us for a week in Hawaii. While some details are being finalized\, check out the attached flyer for information and pricing. \n\n\n\nAll cabins and pricing is based on two to a room.  Pricing for singles and triples available upon request. \n\n\n\nEveryone will require a Real ID compliant driver’s license by the start of this trip in June.  If they have a current passport that will be OK too. \n\n\n\nYou can begin online registration for the trip\, now. Once we know how many people are going by Aug. 11\, we can look at locking in flights.Click the link below to register and make a deposit. \n\n\n\nTrip Registration
URL:https://ctoes.org/event/ct-oes-hawaiian-cruise
CATEGORIES:Trip
END:VEVENT
BEGIN:VEVENT
DTSTART;TZID=America/New_York:20250622T140000
DTEND;TZID=America/New_York:20250622T170000
DTSTAMP:20260425T123915
CREATED:20250220T170138Z
LAST-MODIFIED:20250408T123706Z
UID:2935-1750600800-1750611600@ctoes.org
SUMMARY:Group Discussion at Mystic #20
DESCRIPTION:Mystic will be serving a lunch at noon.   $10 per personSee Flyer for details
URL:https://ctoes.org/event/group-discussion-at-mystic-20
LOCATION:Mystic Chapter #20\, 9 Country Club Road\, Cheshire\, CT\, 06410\, United States
CATEGORIES:Activity
END:VEVENT
BEGIN:VEVENT
DTSTART;TZID=America/New_York:20250622T120000
DTEND;TZID=America/New_York:20250622T133000
DTSTAMP:20260425T123915
CREATED:20250408T123532Z
LAST-MODIFIED:20250423T011429Z
UID:3018-1750593600-1750599000@ctoes.org
SUMMARY:Cheezy Ziti Pasta Luncheon
DESCRIPTION:Fundraising lunch server prior to Group DiscussionSee Flyer for details
URL:https://ctoes.org/event/cheezy-ziti-pasta-luncheon
LOCATION:Mystic Chapter #20\, 9 Country Club Road\, Cheshire\, CT\, 06410\, United States
CATEGORIES:Activity
END:VEVENT
BEGIN:VEVENT
DTSTART;TZID=America/New_York:20250621T100000
DTEND;TZID=America/New_York:20250621T120000
DTSTAMP:20260425T123915
CREATED:20250220T190504Z
LAST-MODIFIED:20250525T181544Z
UID:2958-1750500000-1750507200@ctoes.org
SUMMARY:Heart Walk - Chatfield Hollow
DESCRIPTION:Chatfield Hollow State Park\n\n\n\nFree parking for CT registered vehicles.   Park opens at 8:00\, Walk begins at 10:00
URL:https://ctoes.org/event/heart-association-walk-2
LOCATION:Chatfield Hollow State Park\, 381 Route 80\, Killingworth\, Connecticut\, United States
CATEGORIES:Activity
END:VEVENT
BEGIN:VEVENT
DTSTART;TZID=America/New_York:20250618T193000
DTEND;TZID=America/New_York:20250618T213000
DTSTAMP:20260425T123915
CREATED:20250518T192243Z
LAST-MODIFIED:20250518T192258Z
UID:3258-1750275000-1750282200@ctoes.org
SUMMARY:4th Annual Strawberry Shortcake Festival\, hosted by Temple #53
DESCRIPTION:Following chapter meeting.   See flyer for details
URL:https://ctoes.org/event/4th-annual-strawberry-shortcake-festival-hosted-by-temple-53
LOCATION:Temple Chapter #53\, 1559 Main Street\, South Windsor\, CT\, 06074\, United States
CATEGORIES:Activity
END:VEVENT
BEGIN:VEVENT
DTSTART;TZID=America/New_York:20250614T100000
DTEND;TZID=America/New_York:20250614T150000
DTSTAMP:20260425T123915
CREATED:20250220T170003Z
LAST-MODIFIED:20250513T135341Z
UID:2933-1749895200-1749913200@ctoes.org
SUMMARY:Masonic Family Day
DESCRIPTION:Parade begins at 10:00.    Arrive by 9:30 if participating. \n\n\n\nSee Flyer for details
URL:https://ctoes.org/event/masonic-family-day
LOCATION:Masonicare at Ashlar Village\, 1000 Ashlar Village Drive\, Wallingford\, Connecticut\, United States
CATEGORIES:Activity
END:VEVENT
BEGIN:VEVENT
DTSTART;TZID=America/New_York:20250612T193000
DTEND;TZID=America/New_York:20250612T220000
DTSTAMP:20260425T123915
CREATED:20250220T165805Z
LAST-MODIFIED:20250502T151331Z
UID:2931-1749756600-1749765600@ctoes.org
SUMMARY:Official Visitation at Lucia #25
DESCRIPTION:Reception for Grand Chaplain – Sarah BrockettSee Invitation for Details
URL:https://ctoes.org/event/official-visitation-at-lucia-25-2
LOCATION:Lucia Chapter #25\, 59 Broad Street\, Milford\, CT\, 06460\, United States
CATEGORIES:Official
END:VEVENT
BEGIN:VEVENT
DTSTART;TZID=America/New_York:20250604T080000
DTEND;TZID=America/New_York:20250606T170000
DTSTAMP:20260425T123915
CREATED:20250220T165553Z
LAST-MODIFIED:20250220T165555Z
UID:2927-1749024000-1749229200@ctoes.org
SUMMARY:Vermont Grand Chapter
DESCRIPTION:Session Information and Registration Forms
URL:https://ctoes.org/event/vermont-grand-chapter-2
LOCATION:Essex Resort and Spa\, 70 Essex Way\, Essex Junction\, Vermont\, 05452\, United States
CATEGORIES:Regional
END:VEVENT
BEGIN:VEVENT
DTSTART;TZID=America/New_York:20250602T193000
DTEND;TZID=America/New_York:20250602T220000
DTSTAMP:20260425T123915
CREATED:20250220T164706Z
LAST-MODIFIED:20250220T165141Z
UID:2925-1748892600-1748901600@ctoes.org
SUMMARY:Official Visitation at Ephraim Kirby #75
DESCRIPTION:Grand Electa – Jessica Dey
URL:https://ctoes.org/event/official-visitation-at-ephraim-kirby-75-3
LOCATION:Ephraim Kirby Chapter #75\, 17 Meadow Street\, Litchfield\, CT\, 06759\, United States
CATEGORIES:Official
END:VEVENT
BEGIN:VEVENT
DTSTART;TZID=America/New_York:20250524T080000
DTEND;TZID=America/New_York:20250524T170000
DTSTAMP:20260425T123915
CREATED:20250220T164244Z
LAST-MODIFIED:20250512T172632Z
UID:2923-1748073600-1748106000@ctoes.org
SUMMARY:Heart Association Health Walk
DESCRIPTION:First Event.   Details to follow
URL:https://ctoes.org/event/heart-association-walk
CATEGORIES:Activity
END:VEVENT
BEGIN:VEVENT
DTSTART;TZID=America/New_York:20250518T080000
DTEND;TZID=America/New_York:20250521T170000
DTSTAMP:20260425T123915
CREATED:20250220T164127Z
LAST-MODIFIED:20250220T164323Z
UID:2919-1747555200-1747846800@ctoes.org
SUMMARY:Maine Grand Chapter
DESCRIPTION:Session Information and Registration Forms
URL:https://ctoes.org/event/maine-grand-chapter-2
LOCATION:Cross Insurance Center\, 515 Main Street\, Bangor\, Maine\, 04401\, United States
CATEGORIES:Regional
END:VEVENT
BEGIN:VEVENT
DTSTART;TZID=America/New_York:20250515T080000
DTEND;TZID=America/New_York:20250517T170000
DTSTAMP:20260425T123915
CREATED:20250220T163315Z
LAST-MODIFIED:20250220T163643Z
UID:2912-1747296000-1747501200@ctoes.org
SUMMARY:Massachusetts Grand Chapter
DESCRIPTION:Session Information and Registration Forms
URL:https://ctoes.org/event/massachusetts-grand-chapter-2
LOCATION:Boxboro Regency\, 242 Adams Place\, Boxborough\, Massachusetts\, 01719\, United States
CATEGORIES:Regional
END:VEVENT
BEGIN:VEVENT
DTSTART;TZID=America/New_York:20250512T080000
DTEND;TZID=America/New_York:20250513T210000
DTSTAMP:20260425T123915
CREATED:20250418T133004Z
LAST-MODIFIED:20250427T185701Z
UID:3070-1747036800-1747170000@ctoes.org
SUMMARY:Delaware Grand Chapter
DESCRIPTION:Link to Delaware Grand Chapter website for trifold and registration
URL:https://ctoes.org/event/delaware-grand-chapter-2
LOCATION:Rehoboth Beach\, 1 Baltimore Avenue\, Rehoboth Beach\, Delaware\, 19971\, United States
CATEGORIES:Regional
END:VEVENT
BEGIN:VEVENT
DTSTART;TZID=America/New_York:20250504T140000
DTEND;TZID=America/New_York:20250504T170000
DTSTAMP:20260425T123915
CREATED:20250220T162951Z
LAST-MODIFIED:20250427T185714Z
UID:2910-1746367200-1746378000@ctoes.org
SUMMARY:Group Discussion @Good Intent #17
DESCRIPTION:First of two Group Discussions
URL:https://ctoes.org/event/group-discussion-good-intent-17
LOCATION:Good Intent Chapter #17\, 895 Main Street\, South Glastonbury\, CT\, 06073\, United States
CATEGORIES:Activity
END:VEVENT
BEGIN:VEVENT
DTSTART;TZID=America/New_York:20250424T193000
DTEND;TZID=America/New_York:20250426T220000
DTSTAMP:20260425T123915
CREATED:20250121T032945Z
LAST-MODIFIED:20250427T185433Z
UID:2840-1745523000-1745704800@ctoes.org
SUMMARY:CT Grand Chapter Session 2025
DESCRIPTION:Visit our Session page for Information and Registration
URL:https://ctoes.org/event/2025-ct-grand-chapter-session
LOCATION:Southbury Wyndham\, 1284 Strongtown Rd\, Southbury\, CT 06488\, Southbury\, Connecticut\, 06488\, United States
CATEGORIES:Meeting
END:VEVENT
BEGIN:VEVENT
DTSTART;TZID=America/New_York:20250421T180000
DTEND;TZID=America/New_York:20250421T190000
DTSTAMP:20260425T123915
CREATED:20250328T200311Z
LAST-MODIFIED:20250427T185736Z
UID:2996-1745258400-1745262000@ctoes.org
SUMMARY:Book Club\, Hosted by Ephraim Kirby #75
DESCRIPTION:See Flyer for Details
URL:https://ctoes.org/event/book-club-hosted-by-ephraim-kirby-75
LOCATION:Ephraim Kirby Chapter #75\, 17 Meadow Street\, Litchfield\, CT\, 06759\, United States
CATEGORIES:Activity
END:VEVENT
BEGIN:VEVENT
DTSTART;TZID=America/New_York:20250316T133000
DTEND;TZID=America/New_York:20250316T150000
DTSTAMP:20260425T123915
CREATED:20250203T202303Z
LAST-MODIFIED:20250220T164344Z
UID:2881-1742131800-1742137200@ctoes.org
SUMMARY:New Haven St Patrick's Parade
DESCRIPTION:Hot Breakfast served 9-11am\,  Parade Step off is at 1:30pm\, with BBQ picnic lunch to follow.See Flyer for Details
URL:https://ctoes.org/event/new-haven-st-patricks-parade
LOCATION:New Haven Masonic Lodge\, 285 Whitney Avenue\, New Haven\, Connecticut\, United States
CATEGORIES:Activity
END:VEVENT
BEGIN:VEVENT
DTSTART;TZID=America/New_York:20250302T010000
DTEND;TZID=America/New_York:20250302T160000
DTSTAMP:20260425T123915
CREATED:20241226T200200Z
LAST-MODIFIED:20250121T032348Z
UID:2796-1740877200-1740931200@ctoes.org
SUMMARY:Card Making Hosted by Good Intent #17 and Ephraim Kirby #75
DESCRIPTION:See Flyer for details
URL:https://ctoes.org/event/card-making-hosted-by-good-intent-17-and-ephraim-kirby-75
LOCATION:Good Intent Chapter #17\, 895 Main Street\, South Glastonbury\, CT\, 06073\, United States
CATEGORIES:Activity
END:VEVENT
BEGIN:VEVENT
DTSTART;TZID=America/New_York:20250221T180000
DTEND;TZID=America/New_York:20250222T170000
DTSTAMP:20260425T123915
CREATED:20240827T150436Z
LAST-MODIFIED:20241119T173507Z
UID:2629-1740160800-1740243600@ctoes.org
SUMMARY:Trek to NH CanAm 2025
DESCRIPTION:Event Details  ~   Event Registration  ~  Hotel Reservations
URL:https://ctoes.org/event/trek-to-nh-canam-2025
LOCATION:Sheraton Nashua\, 11 Tara Blvd\, Nashua\, New Hampshire\, 03062\, United States
CATEGORIES:Activity,Regional
END:VEVENT
BEGIN:VEVENT
DTSTART;TZID=America/New_York:20250216T130000
DTEND;TZID=America/New_York:20250216T170000
DTSTAMP:20260425T123915
CREATED:20240623T192010Z
LAST-MODIFIED:20241208T133336Z
UID:2500-1739710800-1739725200@ctoes.org
SUMMARY:AM AP Banquet and Announcements
DESCRIPTION:See attachment for Invitation\, Menu and Booster List
URL:https://ctoes.org/event/am-pm-banquet-and-announcements
LOCATION:LaBella Vista\, Waterbury\, 380 Farmwood Rd\, Waterbury\, 06704\, United States
CATEGORIES:Activity
END:VEVENT
BEGIN:VEVENT
DTSTART;TZID=America/New_York:20250118T120000
DTEND;TZID=America/New_York:20250118T150000
DTSTAMP:20260425T123915
CREATED:20241225T130905Z
LAST-MODIFIED:20250220T164359Z
UID:2793-1737201600-1737212400@ctoes.org
SUMMARY:Holiday Soup n Sandwich hosted by Lady Martha #103
DESCRIPTION:See Flyer for Details
URL:https://ctoes.org/event/holiday-soup-n-sandwich-hosted-by-lady-martha-103
LOCATION:Lady Martha Chapter #103\, 1 Fan Hill Road\, Monroe\, CT\, United States
CATEGORIES:Activity
END:VEVENT
BEGIN:VEVENT
DTSTART;TZID=America/New_York:20250109T193000
DTEND;TZID=America/New_York:20250109T220000
DTSTAMP:20260425T123915
CREATED:20240505T180000Z
LAST-MODIFIED:20240501T152612Z
UID:2334-1736451000-1736460000@ctoes.org
SUMMARY:Official Visitation at Lucia #25
DESCRIPTION:
URL:https://ctoes.org/event/official-visitation-at-lucia-25
LOCATION:Lucia Chapter #25\, 59 Broad Street\, Milford\, CT\, 06460\, United States
CATEGORIES:Official
END:VEVENT
BEGIN:VEVENT
DTSTART;TZID=America/New_York:20250108T193000
DTEND;TZID=America/New_York:20250108T220000
DTSTAMP:20260425T123915
CREATED:20240505T180000Z
LAST-MODIFIED:20241226T200842Z
UID:2332-1736364600-1736373600@ctoes.org
SUMMARY:Official Visitation at Azalea #2 with Marie Lafayette #111
DESCRIPTION:
URL:https://ctoes.org/event/official-visitation-at-azalea-2-with-marie-lafayette-111
LOCATION:Azalia Chapter #2\, 3960 Main Street\, Stratford\, CT\, 06614\, United States
CATEGORIES:Official
END:VEVENT
BEGIN:VEVENT
DTSTART;TZID=America/New_York:20250105T140000
DTEND;TZID=America/New_York:20250105T153000
DTSTAMP:20260425T123915
CREATED:20240623T191617Z
LAST-MODIFIED:20241206T202416Z
UID:2493-1736085600-1736091000@ctoes.org
SUMMARY:Vesper Service at Masonicare Wright Building
DESCRIPTION:
URL:https://ctoes.org/event/vesper-service-at-mhc-chapel
CATEGORIES:Activity
END:VEVENT
BEGIN:VEVENT
DTSTART;TZID=America/New_York:20250104T100000
DTEND;TZID=America/New_York:20250104T140000
DTSTAMP:20260425T123915
CREATED:20241224T143650Z
LAST-MODIFIED:20241224T152623Z
UID:2784-1735984800-1735999200@ctoes.org
SUMMARY:Hope Assembly #46 Installation of Officers
DESCRIPTION:Breakfast at 10am\, followed by Installation.   Parking at Yankee Peddler.
URL:https://ctoes.org/event/rainbow-installation-of-officers
LOCATION:Seneca Lodge\, 26 Water Street\, Torrington\, Connecticut\, 06790\, United States
CATEGORIES:Regional
END:VEVENT
BEGIN:VEVENT
DTSTART;TZID=America/New_York:20241228T130000
DTEND;TZID=America/New_York:20241228T170000
DTSTAMP:20260425T123915
CREATED:20241206T152738Z
LAST-MODIFIED:20241206T152856Z
UID:2752-1735390800-1735405200@ctoes.org
SUMMARY:Ice Skating in Bushnell Park
DESCRIPTION:See Flyer for Details
URL:https://ctoes.org/event/ice-skating-in-bushnell-park
CATEGORIES:Activity
END:VEVENT
BEGIN:VEVENT
DTSTART;TZID=America/New_York:20241228T090000
DTEND;TZID=America/New_York:20241228T113000
DTSTAMP:20260425T123915
CREATED:20241206T151240Z
LAST-MODIFIED:20241227T101834Z
UID:2747-1735376400-1735385400@ctoes.org
SUMMARY:Holiday Breakfast with Mystic #20 - Cancelled
DESCRIPTION:This event is cancelled \n\n\n\nCome join us for breakfast\, and rest from the fast pace pf the holidays. \n\n\n\nSee flyer for details and menu
URL:https://ctoes.org/event/holiday-breakfast-with-mystic-20
LOCATION:Mystic Chapter #20\, 9 Country Club Road\, Cheshire\, CT\, 06410\, United States
CATEGORIES:Activity
END:VEVENT
BEGIN:VEVENT
DTSTART;TZID=America/New_York:20241214T190000
DTEND;TZID=America/New_York:20241214T220000
DTSTAMP:20260425T123915
CREATED:20240701T103555Z
LAST-MODIFIED:20241206T202728Z
UID:2532-1734202800-1734213600@ctoes.org
SUMMARY:A Christmas Carol Musical\, Hosted by Frederica #110
DESCRIPTION:Dinner at 5pm\, Musical at 7PM. See Flyer for Details \n\n\n\nNote the event has moved to the Thomaston High School. \n\n\n\nLink to RSVP
URL:https://ctoes.org/event/scrooge-the-musical-hosted-by-frederica-110
LOCATION:Thomaston High School\, 185 Branch Rd\, Thomaston\, Connecticut\, 06787\, United States
CATEGORIES:Activity
END:VEVENT
BEGIN:VEVENT
DTSTART;TZID=America/New_York:20241214T080000
DTEND;TZID=America/New_York:20241214T100000
DTSTAMP:20260425T123915
CREATED:20241206T160525Z
LAST-MODIFIED:20250220T164412Z
UID:2761-1734163200-1734170400@ctoes.org
SUMMARY:Rainbow Holiday Breakfast\, in New Britain
DESCRIPTION:See Invitation for Details
URL:https://ctoes.org/event/rainbow-day-in-new-britain
LOCATION:New Britain Assembly #6\, 10 Mason Drive\, New Britain\, Connecticut\, 06052\, United States
CATEGORIES:Activity
END:VEVENT
BEGIN:VEVENT
DTSTART;TZID=America/New_York:20241207T100000
DTEND;TZID=America/New_York:20241207T140000
DTSTAMP:20260425T123915
CREATED:20240623T191446Z
LAST-MODIFIED:20241010T112408Z
UID:2491-1733565600-1733580000@ctoes.org
SUMMARY:St Mary's Toy Drive & Brunch
DESCRIPTION:See flyer for details
URL:https://ctoes.org/event/st-marys-toy-drive-brunch
LOCATION:Lady Martha Chapter #103\, 1 Fan Hill Road\, Monroe\, CT\, United States
CATEGORIES:Activity
END:VEVENT
END:VCALENDAR