BEGIN:VCALENDAR
VERSION:2.0
PRODID:-//The Grand Chapter of Connecticut, Order of the Eastern Star, Inc. - ECPv6.15.20//NONSGML v1.0//EN
CALSCALE:GREGORIAN
METHOD:PUBLISH
X-WR-CALNAME:The Grand Chapter of Connecticut, Order of the Eastern Star, Inc.
X-ORIGINAL-URL:https://ctoes.org
X-WR-CALDESC:Events for The Grand Chapter of Connecticut, Order of the Eastern Star, Inc.
REFRESH-INTERVAL;VALUE=DURATION:PT1H
X-Robots-Tag:noindex
X-PUBLISHED-TTL:PT1H
BEGIN:VTIMEZONE
TZID:America/New_York
BEGIN:DAYLIGHT
TZOFFSETFROM:-0500
TZOFFSETTO:-0400
TZNAME:EDT
DTSTART:20240310T070000
END:DAYLIGHT
BEGIN:STANDARD
TZOFFSETFROM:-0400
TZOFFSETTO:-0500
TZNAME:EST
DTSTART:20241103T060000
END:STANDARD
BEGIN:DAYLIGHT
TZOFFSETFROM:-0500
TZOFFSETTO:-0400
TZNAME:EDT
DTSTART:20250309T070000
END:DAYLIGHT
BEGIN:STANDARD
TZOFFSETFROM:-0400
TZOFFSETTO:-0500
TZNAME:EST
DTSTART:20251102T060000
END:STANDARD
BEGIN:DAYLIGHT
TZOFFSETFROM:-0500
TZOFFSETTO:-0400
TZNAME:EDT
DTSTART:20260308T070000
END:DAYLIGHT
BEGIN:STANDARD
TZOFFSETFROM:-0400
TZOFFSETTO:-0500
TZNAME:EST
DTSTART:20261101T060000
END:STANDARD
BEGIN:DAYLIGHT
TZOFFSETFROM:-0500
TZOFFSETTO:-0400
TZNAME:EDT
DTSTART:20270314T070000
END:DAYLIGHT
BEGIN:STANDARD
TZOFFSETFROM:-0400
TZOFFSETTO:-0500
TZNAME:EST
DTSTART:20271107T060000
END:STANDARD
END:VTIMEZONE
BEGIN:VEVENT
DTSTART;TZID=America/New_York:20260527T193000
DTEND;TZID=America/New_York:20260527T220000
DTSTAMP:20260425T070246
CREATED:20260308T195040Z
LAST-MODIFIED:20260308T195046Z
UID:3783-1779910200-1779919200@ctoes.org
SUMMARY:Official Visitation at Pomperaug #88
DESCRIPTION:
URL:https://ctoes.org/event/official-visitation-at-pomperaug-88-4
LOCATION:Pomperaug Chapter #88\, 477 Main Street South\, Woodbury\, CT\, 06798\, United States
END:VEVENT
BEGIN:VEVENT
DTSTART;TZID=America/New_York:20260517T140000
DTEND;TZID=America/New_York:20260517T170000
DTSTAMP:20260425T070246
CREATED:20260308T192950Z
LAST-MODIFIED:20260308T192956Z
UID:3778-1779026400-1779037200@ctoes.org
SUMMARY:Group Discussion
DESCRIPTION:
URL:https://ctoes.org/event/group-discussion-3
LOCATION:Good Intent Chapter #17\, 895 Main Street\, South Glastonbury\, CT\, 06073\, United States
END:VEVENT
BEGIN:VEVENT
DTSTART;TZID=America/New_York:20260509T080000
DTEND;TZID=America/New_York:20260509T150000
DTSTAMP:20260425T070246
CREATED:20260416T025954Z
LAST-MODIFIED:20260416T025956Z
UID:3902-1778313600-1778338800@ctoes.org
SUMMARY:Annual Mother's Day Flower Sale\, hosted by Radiant #11
DESCRIPTION:See flyer for details
URL:https://ctoes.org/event/annual-mothers-day-flower-sale-hosted-by-radiant-11
LOCATION:Radiant Chapter #11\, 375 Boston Post Road\, North Windham\, CT\, 06256\, United States
END:VEVENT
BEGIN:VEVENT
DTSTART;TZID=America/New_York:20260423T160000
DTEND;TZID=America/New_York:20260425T220000
DTSTAMP:20260425T070246
CREATED:20250427T185300Z
LAST-MODIFIED:20260308T123408Z
UID:3173-1776960000-1777154400@ctoes.org
SUMMARY:CT Grand Chapter Session 2026
DESCRIPTION:The Grand Chapter Session will again be held at the Wyndham Southbury hotel. Rooms will be available for OES from Wed 4/22 through Sun 4/26. \n\n\n\nDetails of the event and links for early registration are available on our Grand Chapter Session page.
URL:https://ctoes.org/event/ct-grand-chapter-session-2026
LOCATION:Southbury Wyndham\, 1284 Strongtown Rd\, Southbury\, CT 06488\, Southbury\, Connecticut\, 06488\, United States
CATEGORIES:Meeting
END:VEVENT
BEGIN:VEVENT
DTSTART;TZID=America/New_York:20260420T180000
DTEND;TZID=America/New_York:20260420T190000
DTSTAMP:20260425T070246
CREATED:20260314T042650Z
LAST-MODIFIED:20260314T042707Z
UID:3828-1776708000-1776711600@ctoes.org
SUMMARY:Book Club hosted by Ephraim Kirby #75
DESCRIPTION:All are welcome to join the discussion.  Bring a bag lunch and discuss the book “By The Book” before the chapter meeting.  See the flyer for details.
URL:https://ctoes.org/event/book-club-hosted-by-ephraim-kirby-75-4
LOCATION:Ephraim Kirby Chapter #75\, 17 Meadow Street\, Litchfield\, CT\, 06759\, United States
CATEGORIES:Activity
END:VEVENT
BEGIN:VEVENT
DTSTART;TZID=America/New_York:20260331T190000
DTEND;TZID=America/New_York:20260331T210000
DTSTAMP:20260425T070246
CREATED:20260321T150406Z
LAST-MODIFIED:20260321T150412Z
UID:3849-1774983600-1774990800@ctoes.org
SUMMARY:Bingo Night hosted by Lucia #25
DESCRIPTION:See flyer for details
URL:https://ctoes.org/event/bingo-night-hosted-by-lucia-25-3
LOCATION:Grace and St John’s Episcopal Church\, 2927 Dixwell Ave\, Hamden\, Connecticut\, United States
END:VEVENT
BEGIN:VEVENT
DTSTART;TZID=America/New_York:20260315T100000
DTEND;TZID=America/New_York:20260315T120000
DTSTAMP:20260425T070246
CREATED:20250427T185146Z
LAST-MODIFIED:20260306T192256Z
UID:3171-1773568800-1773576000@ctoes.org
SUMMARY:Installation of Grand Officers CT IORG
DESCRIPTION:lick to see details on the session
URL:https://ctoes.org/event/installation-of-grand-officers-ct-iorg
LOCATION:Trumbull Marriott Shelton\, 180 Hawley Lane\, Trumbull\, Connecticut\, United States
CATEGORIES:Regional
END:VEVENT
BEGIN:VEVENT
DTSTART;TZID=America/New_York:20260313T190000
DTEND;TZID=America/New_York:20260313T220000
DTSTAMP:20260425T070246
CREATED:20250427T185027Z
LAST-MODIFIED:20260306T192031Z
UID:3169-1773428400-1773439200@ctoes.org
SUMMARY:Informal Opening of CT IORG
DESCRIPTION:See link to IORG Grand Session for details
URL:https://ctoes.org/event/informal-opening-of-ct-iorg
LOCATION:Trumbull Marriott Shelton\, 180 Hawley Lane\, Trumbull\, Connecticut\, United States
CATEGORIES:Regional
END:VEVENT
BEGIN:VEVENT
DTSTART;TZID=America/New_York:20260228T193000
DTEND;TZID=America/New_York:20260228T220000
DTSTAMP:20260425T070246
CREATED:20250518T192542Z
LAST-MODIFIED:20250518T192545Z
UID:3260-1772307000-1772316000@ctoes.org
SUMMARY:Service Dogs Comedy Club Night
DESCRIPTION:See flyer for details
URL:https://ctoes.org/event/service-dogs-comedy-club-night
LOCATION:Mystic Chapter #20\, 9 Country Club Road\, Cheshire\, CT\, 06410\, United States
CATEGORIES:Activity
END:VEVENT
BEGIN:VEVENT
DTSTART;TZID=America/New_York:20260228T100000
DTEND;TZID=America/New_York:20260228T130000
DTSTAMP:20260425T070246
CREATED:20250812T205504Z
LAST-MODIFIED:20250911T114532Z
UID:3373-1772272800-1772283600@ctoes.org
SUMMARY:Heart Walk - Tanger Outlet at Foxwoods
DESCRIPTION:Healthy Walks continue in Tanger Outlet at Foxwoods
URL:https://ctoes.org/event/heart-walk-foxwood
LOCATION:Tanger Outlet Foxwoods\, 455 Trolley Line Blvd\, Mashantucket\, Connecticut\, 06338\, United States
CATEGORIES:Activity
END:VEVENT
BEGIN:VEVENT
DTSTART;TZID=America/New_York:20260220T080000
DTEND;TZID=America/New_York:20260222T170000
DTSTAMP:20260425T070246
CREATED:20250427T184804Z
LAST-MODIFIED:20250815T015730Z
UID:3167-1771574400-1771779600@ctoes.org
SUMMARY:Can-Am
DESCRIPTION:New Brunswick\, CanadaInformation and Registration
URL:https://ctoes.org/event/can-am
LOCATION:Fredericton Inn\, 1315 Regent St\, Fredericton\, New Brunswick\, Canada
CATEGORIES:Regional
END:VEVENT
BEGIN:VEVENT
DTSTART;TZID=America/New_York:20260215T130000
DTEND;TZID=America/New_York:20260215T170000
DTSTAMP:20260425T070246
CREATED:20251027T120000Z
LAST-MODIFIED:20251026T200922Z
UID:3165-1771160400-1771174800@ctoes.org
SUMMARY:AGM and AGP Announcement Banquet
DESCRIPTION:See Flyer and Reservation Form
URL:https://ctoes.org/event/agm-and-agp-announcement-banquet
LOCATION:Knapp Auditorium\, Masonicare\, 74 Cheshire Road\, Wallingford\, Connecticut\, 06492\, United States
CATEGORIES:Activity
END:VEVENT
BEGIN:VEVENT
DTSTART;TZID=America/New_York:20260214T140000
DTEND;TZID=America/New_York:20260214T170000
DTSTAMP:20260425T070246
CREATED:20260116T135338Z
LAST-MODIFIED:20260211T212307Z
UID:3700-1771077600-1771088400@ctoes.org
SUMMARY:Official Visitation at Marie Lafayette #111 - Rescheduled
DESCRIPTION:Rescheduled due to weather (again).RSVP if attending to Grace Rettburg
URL:https://ctoes.org/event/official-visitation-at-marie-lafayette-111
LOCATION:Marie Lafayette Chapter #111\, 428 Old Stratfield Rd\, Fairfield\, CT\, 06824\, United States
CATEGORIES:Official
ORGANIZER;CN="Grace Rettburg":MAILTO:gmr1226@att.net
END:VEVENT
BEGIN:VEVENT
DTSTART;TZID=America/New_York:20260214T133000
DTEND;TZID=America/New_York:20260214T153000
DTSTAMP:20260425T070246
CREATED:20251015T110648Z
LAST-MODIFIED:20260211T212104Z
UID:3546-1771075800-1771083000@ctoes.org
SUMMARY:Bring a Friend Masquerade - Canceled
DESCRIPTION:This event has been canceled
URL:https://ctoes.org/event/bring-a-friend-masquerade
LOCATION:Mystic Chapter #20\, 9 Country Club Road\, Cheshire\, CT\, 06410\, United States
CATEGORIES:Activity
END:VEVENT
BEGIN:VEVENT
DTSTART;TZID=America/New_York:20260131T193000
DTEND;TZID=America/New_York:20260131T220000
DTSTAMP:20260425T070246
CREATED:20250427T184324Z
LAST-MODIFIED:20251201T133047Z
UID:3163-1769887800-1769896800@ctoes.org
SUMMARY:Official Visitation at Azalia #2
DESCRIPTION:Home chapter of WGM and WGP
URL:https://ctoes.org/event/official-visitation-at-azalia-2-2
LOCATION:Azalia Chapter #2\, 3960 Main Street\, Stratford\, CT\, 06614\, United States
CATEGORIES:Official
END:VEVENT
BEGIN:VEVENT
DTSTART;TZID=America/New_York:20260124T100000
DTEND;TZID=America/New_York:20260124T130000
DTSTAMP:20260425T070246
CREATED:20250812T205328Z
LAST-MODIFIED:20260124T132003Z
UID:3371-1769248800-1769259600@ctoes.org
SUMMARY:Heart Walk - Olde Mistick Shoppes - Canceled
DESCRIPTION:This event is being canceled due to the extreme cold weather.  Stay warm and safe everyone! \n\n\n\nHealthy Walks continue at Olde Mistick Village
URL:https://ctoes.org/event/heart-walk-olde-mystic
LOCATION:Olde Mistick Village\, 27 Coogan Blvd\, Mystic\, Connecticut\, United States
END:VEVENT
BEGIN:VEVENT
DTSTART;TZID=America/New_York:20260124T080000
DTEND;TZID=America/New_York:20260124T170000
DTSTAMP:20260425T070246
CREATED:20251201T133326Z
LAST-MODIFIED:20251201T133329Z
UID:3640-1769241600-1769274000@ctoes.org
SUMMARY:IORG Grand Representatives Night
DESCRIPTION:Dinner planned before the meetingDetails to follow
URL:https://ctoes.org/event/iorg-grand-representatives-night
LOCATION:New Britain Assembly #6\, 10 Mason Drive\, New Britain\, Connecticut\, 06052\, United States
END:VEVENT
BEGIN:VEVENT
DTSTART;TZID=America/New_York:20260117T120000
DTEND;TZID=America/New_York:20260117T150000
DTSTAMP:20260425T070246
CREATED:20251126T195416Z
LAST-MODIFIED:20251126T195420Z
UID:3623-1768651200-1768662000@ctoes.org
SUMMARY:Soup & Sandwich hosted by Lady Martha #103
DESCRIPTION:See flyer for details
URL:https://ctoes.org/event/soup-sandwich-hosted-by-lady-martha-103
LOCATION:Lady Martha Chapter #103\, 1 Fan Hill Road\, Monroe\, CT\, United States
CATEGORIES:Activity
END:VEVENT
BEGIN:VEVENT
DTSTART;TZID=America/New_York:20260110T080000
DTEND;TZID=America/New_York:20260110T170000
DTSTAMP:20260425T070246
CREATED:20251016T212147Z
LAST-MODIFIED:20251016T212338Z
UID:3552-1768032000-1768064400@ctoes.org
SUMMARY:New England Exchange 2026
DESCRIPTION:See flyer for details
URL:https://ctoes.org/event/new-england-exchange-2026
LOCATION:Mt Anthony Lodge\, 504 Main Street\, Bennington\, Vermont\, 05201\, United States
CATEGORIES:Activity,Regional
END:VEVENT
BEGIN:VEVENT
DTSTART;TZID=America/New_York:20260104T140000
DTEND;TZID=America/New_York:20260104T170000
DTSTAMP:20260425T070246
CREATED:20250427T184058Z
LAST-MODIFIED:20251130T221822Z
UID:3159-1767535200-1767546000@ctoes.org
SUMMARY:OES Vesper Service
DESCRIPTION:Details to Follow
URL:https://ctoes.org/event/oes-vesper-service
LOCATION:CT
CATEGORIES:Activity
END:VEVENT
BEGIN:VEVENT
DTSTART;TZID=America/New_York:20251220T183000
DTEND;TZID=America/New_York:20251220T203000
DTSTAMP:20260425T070246
CREATED:20251220T195249Z
LAST-MODIFIED:20251220T195316Z
UID:3656-1766255400-1766262600@ctoes.org
SUMMARY:Christmas Hayride with IORG and DeMolay
DESCRIPTION:Please join our WGP Richard and WGM Suzie for a family friendly Masonic youth event.This year we will be taking a Christmas Hayride on Saturday\, December 20th at Fairview Farm in Shelton Ct\, . The hayride is just about 30mins\, our scheduled time is 7pm but you must arrive by 6:30\, there is a lot to see\, photo opportunities and you can buy a hot beverage to warm you up. The price is $28.00 per person\, all Masonic youth is complementary. \n\n\n\nPlease call Suzie Dana for further details at 203-308-0237
URL:https://ctoes.org/event/christmas-hayride-with-iorg-and-demolay
LOCATION:Fairview Tree Farm\, 2 Sawmill City Road\, Shelton\, Connecticut\, 06484\, United States
CATEGORIES:Activity
END:VEVENT
BEGIN:VEVENT
DTSTART;TZID=America/New_York:20251217T183000
DTEND;TZID=America/New_York:20251217T220000
DTSTAMP:20260425T070246
CREATED:20251126T193756Z
LAST-MODIFIED:20251126T193800Z
UID:3620-1765996200-1766008800@ctoes.org
SUMMARY:Holiday Party hosted by Temple #53
DESCRIPTION:See flyer for details
URL:https://ctoes.org/event/holiday-party-hosted-by-temple-53
LOCATION:Temple Chapter #53\, 1559 Main Street\, South Windsor\, CT\, 06074\, United States
CATEGORIES:Activity,Meeting
END:VEVENT
BEGIN:VEVENT
DTSTART;TZID=America/New_York:20251207T140000
DTEND;TZID=America/New_York:20251207T170000
DTSTAMP:20260425T070246
CREATED:20251126T203115Z
LAST-MODIFIED:20251128T202633Z
UID:3626-1765116000-1765126800@ctoes.org
SUMMARY:Miracle on 34th Street\, hosted by Frederica #110
DESCRIPTION:See flyer for details. Dinner is not included with ticket\, but if folks are interested\, a few are planning on going to Tremonti’s in Thomaston after the show and Patrick would need a count for those interested in joining those going to dinner….
URL:https://ctoes.org/event/scrooge-the-musical-hosted-by-frederica-110-2
LOCATION:Thomaston Opera House\, 158 Main Street\, Thomaston\, Connecticut\, 06787\, United States
CATEGORIES:Activity
END:VEVENT
BEGIN:VEVENT
DTSTART;TZID=America/New_York:20251206T100000
DTEND;TZID=America/New_York:20251206T140000
DTSTAMP:20260425T070246
CREATED:20250427T183935Z
LAST-MODIFIED:20250428T184028Z
UID:3157-1765015200-1765029600@ctoes.org
SUMMARY:St Mary's Toy Drive and Brunch
DESCRIPTION:See Flyer for Details
URL:https://ctoes.org/event/st-marys-toy-drive-and-brunch
LOCATION:Lady Martha Chapter #103\, 1 Fan Hill Road\, Monroe\, CT\, United States
CATEGORIES:Activity
END:VEVENT
BEGIN:VEVENT
DTSTART;TZID=America/New_York:20251119T193000
DTEND;TZID=America/New_York:20251119T220000
DTSTAMP:20260425T070246
CREATED:20250427T183314Z
LAST-MODIFIED:20251115T200156Z
UID:3153-1763580600-1763589600@ctoes.org
SUMMARY:Official Visitation at Lady Martha #103
DESCRIPTION:See Invitation for Details
URL:https://ctoes.org/event/official-visitation-at-lady-martha-103-2
LOCATION:Lady Martha Chapter #103\, 1 Fan Hill Road\, Monroe\, CT\, United States
CATEGORIES:Official
END:VEVENT
BEGIN:VEVENT
DTSTART;TZID=America/New_York:20251118T190000
DTEND;TZID=America/New_York:20251118T210000
DTSTAMP:20260425T070246
CREATED:20250924T021215Z
LAST-MODIFIED:20250924T021232Z
UID:3486-1763492400-1763499600@ctoes.org
SUMMARY:Bingo Night hosted by Lucia #25
DESCRIPTION:See Flyer for Details
URL:https://ctoes.org/event/bingo-night-hosted-by-lucia-25-2
LOCATION:Grace and St John’s Episcopal Church\, 2927 Dixwell Ave\, Hamden\, Connecticut\, United States
CATEGORIES:Activity
END:VEVENT
BEGIN:VEVENT
DTSTART;TZID=America/New_York:20251115T100000
DTEND;TZID=America/New_York:20251115T130000
DTSTAMP:20260425T070246
CREATED:20250427T183145Z
LAST-MODIFIED:20251115T021412Z
UID:3151-1763200800-1763211600@ctoes.org
SUMMARY:Heart Walk - Kent Falls
DESCRIPTION:Healthy Walks continue at Kent Falls State Park
URL:https://ctoes.org/event/heart-walk-2
LOCATION:Kent Falls State Park\, 462 Kent Cornwall Road\, Kent\, Connecticut\, 06757\, United States
CATEGORIES:Activity
END:VEVENT
BEGIN:VEVENT
DTSTART;TZID=America/New_York:20251111T193000
DTEND;TZID=America/New_York:20251111T220000
DTSTAMP:20260425T070246
CREATED:20250427T183057Z
LAST-MODIFIED:20250427T183059Z
UID:3149-1762889400-1762898400@ctoes.org
SUMMARY:Official Visitation at Betty Putnam #106
DESCRIPTION:
URL:https://ctoes.org/event/official-visitation-at-betty-putnam-106-3
LOCATION:Betty Putnam Chapter #106\, 265 Rt 169\, South Woodstock\, CT\, 06267\, United States
CATEGORIES:Official
END:VEVENT
BEGIN:VEVENT
DTSTART;TZID=America/New_York:20251109T130000
DTEND;TZID=America/New_York:20251109T170000
DTSTAMP:20260425T070246
CREATED:20251017T004655Z
LAST-MODIFIED:20251017T004700Z
UID:3558-1762693200-1762707600@ctoes.org
SUMMARY:Crimson Knights Association
DESCRIPTION:Cordially invites you to their next meeting on Sunday\, November 9\, 2025.  It is being held at Good Intent Chapter #17\, 895 Main Street\, South Glastonbury.  The meeting will start at 1:00 pm with a Pot Luck followed by the Business meeting and auction at 2:00 pm.  The auction theme is Winter. \n\n\n\nPlease remember to bring\, along with your potluck to share\, your own plates\, silverware and beverage. \n\n\n\nCome and join AGM Judy and AGP Bruce and their Knights in an afternoon of food\, fun and fellowship.  The meeting is open to ALL and we welcome all of you to join the association. \n\n\n\nLooking forward to seeing many of you at the meeting\, we will be discussing the announcement banquet and other plans for the upcoming year. \n\n\n\nHelen Rice\, Secretary
URL:https://ctoes.org/event/crimson-knights-association-2
LOCATION:Good Intent Chapter #17\, 895 Main Street\, South Glastonbury\, CT\, 06073\, United States
CATEGORIES:Activity
END:VEVENT
BEGIN:VEVENT
DTSTART;TZID=America/New_York:20251108T130000
DTEND;TZID=America/New_York:20251108T170000
DTSTAMP:20260425T070246
CREATED:20250427T182843Z
LAST-MODIFIED:20250427T182845Z
UID:3147-1762606800-1762621200@ctoes.org
SUMMARY:Official Visitation at Radiant #11
DESCRIPTION:
URL:https://ctoes.org/event/official-visitation-at-radiant-11-3
LOCATION:Radiant Chapter #11\, 375 Boston Post Road\, North Windham\, CT\, 06256\, United States
CATEGORIES:Official
END:VEVENT
END:VCALENDAR