BEGIN:VCALENDAR
VERSION:2.0
PRODID:-//The Grand Chapter of Connecticut, Order of the Eastern Star, Inc. - ECPv6.15.20//NONSGML v1.0//EN
CALSCALE:GREGORIAN
METHOD:PUBLISH
X-WR-CALNAME:The Grand Chapter of Connecticut, Order of the Eastern Star, Inc.
X-ORIGINAL-URL:https://ctoes.org
X-WR-CALDESC:Events for The Grand Chapter of Connecticut, Order of the Eastern Star, Inc.
REFRESH-INTERVAL;VALUE=DURATION:PT1H
X-Robots-Tag:noindex
X-PUBLISHED-TTL:PT1H
BEGIN:VTIMEZONE
TZID:America/New_York
BEGIN:DAYLIGHT
TZOFFSETFROM:-0500
TZOFFSETTO:-0400
TZNAME:EDT
DTSTART:20210314T070000
END:DAYLIGHT
BEGIN:STANDARD
TZOFFSETFROM:-0400
TZOFFSETTO:-0500
TZNAME:EST
DTSTART:20211107T060000
END:STANDARD
BEGIN:DAYLIGHT
TZOFFSETFROM:-0500
TZOFFSETTO:-0400
TZNAME:EDT
DTSTART:20220313T070000
END:DAYLIGHT
BEGIN:STANDARD
TZOFFSETFROM:-0400
TZOFFSETTO:-0500
TZNAME:EST
DTSTART:20221106T060000
END:STANDARD
BEGIN:DAYLIGHT
TZOFFSETFROM:-0500
TZOFFSETTO:-0400
TZNAME:EDT
DTSTART:20230312T070000
END:DAYLIGHT
BEGIN:STANDARD
TZOFFSETFROM:-0400
TZOFFSETTO:-0500
TZNAME:EST
DTSTART:20231105T060000
END:STANDARD
BEGIN:DAYLIGHT
TZOFFSETFROM:-0500
TZOFFSETTO:-0400
TZNAME:EDT
DTSTART:20240310T070000
END:DAYLIGHT
BEGIN:STANDARD
TZOFFSETFROM:-0400
TZOFFSETTO:-0500
TZNAME:EST
DTSTART:20241103T060000
END:STANDARD
END:VTIMEZONE
BEGIN:VEVENT
DTSTART;TZID=America/New_York:20230402T140000
DTEND;TZID=America/New_York:20230402T170000
DTSTAMP:20260425T111512
CREATED:20230224T192746Z
LAST-MODIFIED:20230430T195054Z
UID:807-1680444000-1680454800@ctoes.org
SUMMARY:Busy Bees Association Meeting
DESCRIPTION:The next Busy Bees association meeting will be held on April 2 at 2 pm at Frederica 110.  The bag auction theme will be Spring.
URL:https://ctoes.org/event/busy-bees-association-meeting-2
LOCATION:Frederica Chapter #110\, 70 East Main Street\, Plainville\, CT\, 06062\, United States
CATEGORIES:Activity
END:VEVENT
BEGIN:VEVENT
DTSTART;TZID=America/New_York:20230319T130000
DTEND;TZID=America/New_York:20230319T170000
DTSTAMP:20260425T111512
CREATED:20230304T235611Z
LAST-MODIFIED:20230430T195102Z
UID:857-1679230800-1679245200@ctoes.org
SUMMARY:Grand Representatives Association
DESCRIPTION:To all Grand Representatives\, current and former\, \n\n\n\nThe next meeting of the Grand Representative Association will be held on Sunday\, March 19\,2023 at Good Intent Chapter in South Glastonbury.  Grand Chapter and our responsibilities during the session will be discussed.  There is a potluck at 1:00 pm and the meeting follows at 2:00 pm.  Remember to bring your place settings with you.  We look forward to seeing you there! \n\n\n\nEleanor Carbonaro \n\n\n\nSecretary
URL:https://ctoes.org/event/grand-representatives-association
LOCATION:Good Intent Chapter #17\, 895 Main Street\, South Glastonbury\, CT\, 06073\, United States
CATEGORIES:Activity
END:VEVENT
BEGIN:VEVENT
DTSTART;TZID=America/New_York:20230308T103000
DTEND;TZID=America/New_York:20230310T140000
DTSTAMP:20260425T111512
CREATED:20230205T123707Z
LAST-MODIFIED:20230224T193023Z
UID:754-1678271400-1678456800@ctoes.org
SUMMARY:Nutmegger Reunion
DESCRIPTION:For our Florida Sisters and Brothers — Join us for the Nutmegger Reunions in Boca Raton\, Titusville and New Port Richey \nSee Flyer for details
URL:https://ctoes.org/event/nutmegger-reunion
CATEGORIES:Activity
END:VEVENT
BEGIN:VEVENT
DTSTART;TZID=America/New_York:20230305T180000
DTEND;TZID=America/New_York:20230305T200000
DTSTAMP:20260425T111512
CREATED:20230224T120628Z
LAST-MODIFIED:20230304T212714Z
UID:803-1678039200-1678046400@ctoes.org
SUMMARY:Pottery Fundraiser\, hosted by Frederica #110
DESCRIPTION:Join Frederica Chapter at the Pottery Piazza in Plainville for a fun evening making pottery.  Proceeds will go to the Plainville Food Pantry.Cost is $10.00 plus the cost of the pottery which ranges from $15.00 – $35.00. \nIf interested please call Lisa Butteri 860-877-5228.
URL:https://ctoes.org/event/pottery-fundraiser-hosted-by-frederica-110
LOCATION:Pottery Piazza\, 17 Farmington Ave\, Plainville\, Connecticut\, 06062\, United States
CATEGORIES:Activity
END:VEVENT
BEGIN:VEVENT
DTSTART;TZID=America/New_York:20230305T140000
DTEND;TZID=America/New_York:20230305T170000
DTSTAMP:20260425T111512
CREATED:20230224T192523Z
LAST-MODIFIED:20230430T195113Z
UID:805-1678024800-1678035600@ctoes.org
SUMMARY:Counting Stars Association Meeting
DESCRIPTION:The next Counting Stars Association meeting will now be held as a zoom meeting. \nhttps://us02web.zoom.us/j/83306948360?pwd=SFNFTDhoL3hhVGppU0NhUHNBb3RSQT09 \nMeeting ID: 833 0694 8360Passcode: 385954One tap mobile+16465588656\,\,83306948360#\,\,\,\,*385954# US (New York)+16469313860\,\,83306948360#\,\,\,\,*385954# US \nDial by your location        +1 646 558 8656 US (New York)
URL:https://ctoes.org/event/counting-stars-association-meeting-2
CATEGORIES:Activity
END:VEVENT
BEGIN:VEVENT
DTSTART;TZID=America/New_York:20230304T110000
DTEND;TZID=America/New_York:20230304T140000
DTSTAMP:20260425T111512
CREATED:20230125T222700Z
LAST-MODIFIED:20230125T223130Z
UID:721-1677927600-1677938400@ctoes.org
SUMMARY:Ladies at the Table Hosted by Ephraim Kirby #75
DESCRIPTION:See Flyer for Details
URL:https://ctoes.org/event/ladies-at-the-table-hosted-by-ephraim-kirby-75
LOCATION:Ephraim Kirby Chapter #75\, 17 Meadow Street\, Litchfield\, CT\, 06759\, United States
CATEGORIES:Activity
END:VEVENT
BEGIN:VEVENT
DTSTART;VALUE=DATE:20230223
DTEND;VALUE=DATE:20230227
DTSTAMP:20260425T111512
CREATED:20221123T193507Z
LAST-MODIFIED:20221123T193507Z
UID:514-1677178800-1677437999@ctoes.org
SUMMARY:Can-Am Hosted by Mass Grand Chapter
DESCRIPTION:Come Have S’More Fun with Massachusetts OES at the Can-Am Weekend”\nSee Flyer and Registration Form \nFebruary 24-26\, 2023 Boxboro Regency 242 Adams Place\, Boxboro\, MA 978-263-8701
URL:https://ctoes.org/event/can-am-hosted-by-mass-grand-chapter
CATEGORIES:Regional
END:VEVENT
BEGIN:VEVENT
DTSTART;TZID=America/New_York:20230219T130000
DTEND;TZID=America/New_York:20230219T170000
DTSTAMP:20260425T111512
CREATED:20221123T194229Z
LAST-MODIFIED:20230219T122525Z
UID:520-1676811600-1676826000@ctoes.org
SUMMARY:AM & PM Banquet and Grand Officer Announcement
DESCRIPTION:Join us at LaBella Vista\, Waterbury for dinner and the announcements of the 2023-24 Grand Officers. \nSee flyer for details.
URL:https://ctoes.org/event/am-pm-banquet-and-grand-officer-announcement
LOCATION:LaBella Vista\, Waterbury\, 380 Farmwood Rd\, Waterbury\, 06704\, United States
CATEGORIES:Activity
END:VEVENT
BEGIN:VEVENT
DTSTART;TZID=America/New_York:20230120T193000
DTEND;TZID=America/New_York:20230120T220000
DTSTAMP:20260425T111512
CREATED:20221229T162950Z
LAST-MODIFIED:20221229T162950Z
UID:694-1674243000-1674252000@ctoes.org
SUMMARY:New Member Initiation at Mystic #20
DESCRIPTION:Come fill the sidelines as Mystic Chapter initiates a new member!
URL:https://ctoes.org/event/new-member-initiation-at-mystic-20
LOCATION:Mystic Chapter #20\, 9 Country Club Road\, Cheshire\, CT\, 06410\, United States
CATEGORIES:Meeting
END:VEVENT
BEGIN:VEVENT
DTSTART;TZID=America/New_York:20230115T140000
DTEND;TZID=America/New_York:20230115T170000
DTSTAMP:20260425T111512
CREATED:20221229T162416Z
LAST-MODIFIED:20230430T214052Z
UID:690-1673791200-1673802000@ctoes.org
SUMMARY:Counting Stars Association Meeting
DESCRIPTION:The next Counting Stars Association Meeting will be Sunday\, January 15\, 2023 (snow date is January 22)\, at Frederica Chapter 110\, 70 East Main Street\, Plainville\, CT 06062. There will be a potluck buffet at 2:00 p.m.\, followed by the meeting. Please bring your favorite dish to share. Don’t forget your place settings and drinks. The theme for the gift bag auction will be “Let it Snow.”
URL:https://ctoes.org/event/counting-stars-association-meeting
LOCATION:Frederica Chapter #110\, 70 East Main Street\, Plainville\, CT\, 06062\, United States
CATEGORIES:Activity
END:VEVENT
BEGIN:VEVENT
DTSTART;TZID=America/New_York:20230113T193000
DTEND;TZID=America/New_York:20230113T220000
DTSTAMP:20260425T111512
CREATED:20221229T162823Z
LAST-MODIFIED:20221229T162823Z
UID:692-1673638200-1673647200@ctoes.org
SUMMARY:Obligation Night at Mystic #20
DESCRIPTION:
URL:https://ctoes.org/event/obligation-night-at-mystic-20
LOCATION:Mystic Chapter #20\, 9 Country Club Road\, Cheshire\, CT\, 06410\, United States
CATEGORIES:Meeting
END:VEVENT
BEGIN:VEVENT
DTSTART;TZID=America/New_York:20230108T140000
DTEND;TZID=America/New_York:20230108T170000
DTSTAMP:20260425T111512
CREATED:20230105T180053Z
LAST-MODIFIED:20230430T214100Z
UID:699-1673186400-1673197200@ctoes.org
SUMMARY:Busy Bees Association Meeting
DESCRIPTION:The Busy Bees Association is meeting Sunday\, January 8\, at Frederica Chapter in Plainville\, CT. Join us for a potluck dinner at 2 pm\, followed by the meeting and bag auction. Bring your place settings and beverages\, and a dish to share.  Bag auction using letters “C” & or “W”\, and of course special\, really nice looking bags…
URL:https://ctoes.org/event/busy-bees-association-meeting
LOCATION:Frederica Chapter #110\, 70 East Main Street\, Plainville\, CT\, 06062\, United States
CATEGORIES:Activity
END:VEVENT
BEGIN:VEVENT
DTSTART;TZID=America/New_York:20230103T193000
DTEND;TZID=America/New_York:20230103T220000
DTSTAMP:20260425T111512
CREATED:20221128T121429Z
LAST-MODIFIED:20230430T214107Z
UID:634-1672774200-1672783200@ctoes.org
SUMMARY:Official Visitation - Marie Lafayette #111
DESCRIPTION:
URL:https://ctoes.org/event/official-visitation-marie-lafayette-111
LOCATION:Marie Lafayette Chapter #111\, 428 Old Stratfield Rd\, Fairfield\, CT\, 06824\, United States
CATEGORIES:Official
END:VEVENT
BEGIN:VEVENT
DTSTART;TZID=America/New_York:20221210T110000
DTEND;TZID=America/New_York:20221210T133000
DTSTAMP:20260425T111512
CREATED:20221202T204519Z
LAST-MODIFIED:20221203T143839Z
UID:640-1670670000-1670679000@ctoes.org
SUMMARY:Multi-Chapter Toy Drive
DESCRIPTION:December 10\, 2022 at 11 a.m.at the Casa Mia at the Hawthorn\, 2421 Berlin Turnpike\, Berlin\, CT. Bring a Toy for Kids St Mary’s Hospital Emergency Pediatric Unit and join us for a buffet lunch for $30 p/p to be served appx. 11:45. Reservations by December 5. \nSee Flyer for Details.
URL:https://ctoes.org/event/multi-chapter-toy-drive
LOCATION:Casa Mia at the Hawthorn\, 2421 Berlin Turnpike\, Berlin\, CT\, United States
CATEGORIES:Activity
END:VEVENT
BEGIN:VEVENT
DTSTART;TZID=America/New_York:20221210T090000
DTEND;TZID=America/New_York:20221210T120000
DTSTAMP:20260425T111512
CREATED:20221123T190032Z
LAST-MODIFIED:20230430T214114Z
UID:518-1670662800-1670673600@ctoes.org
SUMMARY:Official Visitation Lady Washington #45
DESCRIPTION:Join us for the final Official of the year\, and Worthy Grand Matron Linda’s homecoming.
URL:https://ctoes.org/event/official-visitation-lady-washington-45
LOCATION:Lady Washington Chapter #45\, 10 Mason Drive\, New Britain\, CT\, 06052\, United States
CATEGORIES:Official
END:VEVENT
BEGIN:VEVENT
DTSTART;VALUE=DATE:20221206
DTEND;VALUE=DATE:20221208
DTSTAMP:20260425T111512
CREATED:20221123T185758Z
LAST-MODIFIED:20221123T192821Z
UID:499-1670353200-1670439599@ctoes.org
SUMMARY:Trip to Radio City Christmas Show
DESCRIPTION:See Flyer for details
URL:https://ctoes.org/event/trip-to-radio-city-christmas-show
CATEGORIES:Trip
END:VEVENT
BEGIN:VEVENT
DTSTART;TZID=America/New_York:20221201T193000
DTEND;TZID=America/New_York:20221201T220000
DTSTAMP:20260425T111512
CREATED:20221128T121219Z
LAST-MODIFIED:20230430T214126Z
UID:632-1669923000-1669932000@ctoes.org
SUMMARY:Official Visitation - Golden Rod #34
DESCRIPTION:
URL:https://ctoes.org/event/official-visitation-golden-rod-34
LOCATION:Golden Rod Chapter #34\, 263 Center Street\, West Haven\, CT\, 06516\, United States
CATEGORIES:Official
END:VEVENT
BEGIN:VEVENT
DTSTART;TZID=America/New_York:20221127T080000
DTEND;TZID=America/New_York:20221127T110000
DTSTAMP:20260425T111512
CREATED:20221123T190153Z
LAST-MODIFIED:20221123T192832Z
UID:503-1669536000-1669546800@ctoes.org
SUMMARY:Coffee and Crafts with Lady Martha #103
DESCRIPTION:See Flyer for details
URL:https://ctoes.org/event/coffee-and-crafts-with-lady-martha-103
LOCATION:Lady Martha Chapter #103\, 1 Fan Hill Road\, Monroe\, CT\, United States
CATEGORIES:Activity
END:VEVENT
BEGIN:VEVENT
DTSTART;TZID=America/New_York:20221101T040000
DTEND;TZID=America/New_York:20221208T120000
DTSTAMP:20260425T111512
CREATED:20221123T192518Z
LAST-MODIFIED:20221123T192845Z
UID:510-1667275200-1670500800@ctoes.org
SUMMARY:Sachem Chapter's Food Gift Jars\, Available through Dec 8th
DESCRIPTION:Don’t know what to get that special person?   Try a food gift jar. \nSee flyer for details.
URL:https://ctoes.org/event/sachem-chapters-food-gift-jars-available-through-dec-8th
CATEGORIES:Activity
END:VEVENT
END:VCALENDAR