BEGIN:VCALENDAR
VERSION:2.0
PRODID:-//The Grand Chapter of Connecticut, Order of the Eastern Star, Inc. - ECPv6.15.20//NONSGML v1.0//EN
CALSCALE:GREGORIAN
METHOD:PUBLISH
X-WR-CALNAME:The Grand Chapter of Connecticut, Order of the Eastern Star, Inc.
X-ORIGINAL-URL:https://ctoes.org
X-WR-CALDESC:Events for The Grand Chapter of Connecticut, Order of the Eastern Star, Inc.
REFRESH-INTERVAL;VALUE=DURATION:PT1H
X-Robots-Tag:noindex
X-PUBLISHED-TTL:PT1H
BEGIN:VTIMEZONE
TZID:America/New_York
BEGIN:DAYLIGHT
TZOFFSETFROM:-0500
TZOFFSETTO:-0400
TZNAME:EDT
DTSTART:20220313T070000
END:DAYLIGHT
BEGIN:STANDARD
TZOFFSETFROM:-0400
TZOFFSETTO:-0500
TZNAME:EST
DTSTART:20221106T060000
END:STANDARD
BEGIN:DAYLIGHT
TZOFFSETFROM:-0500
TZOFFSETTO:-0400
TZNAME:EDT
DTSTART:20230312T070000
END:DAYLIGHT
BEGIN:STANDARD
TZOFFSETFROM:-0400
TZOFFSETTO:-0500
TZNAME:EST
DTSTART:20231105T060000
END:STANDARD
BEGIN:DAYLIGHT
TZOFFSETFROM:-0500
TZOFFSETTO:-0400
TZNAME:EDT
DTSTART:20240310T070000
END:DAYLIGHT
BEGIN:STANDARD
TZOFFSETFROM:-0400
TZOFFSETTO:-0500
TZNAME:EST
DTSTART:20241103T060000
END:STANDARD
END:VTIMEZONE
BEGIN:VEVENT
DTSTART;TZID=America/New_York:20230706T080000
DTEND;TZID=America/New_York:20230708T170000
DTSTAMP:20260425T080022
CREATED:20230430T203900Z
LAST-MODIFIED:20230430T205146Z
UID:1261-1688630400-1688835600@ctoes.org
SUMMARY:New Brunswick Grand Chapter
DESCRIPTION:
URL:https://ctoes.org/event/new-brunswick-grand-chapter
LOCATION:CT
CATEGORIES:Regional
END:VEVENT
BEGIN:VEVENT
DTSTART;TZID=America/New_York:20230703T080000
DTEND;TZID=America/New_York:20230705T170000
DTSTAMP:20260425T080022
CREATED:20230430T203758Z
LAST-MODIFIED:20230430T203800Z
UID:1259-1688371200-1688576400@ctoes.org
SUMMARY:NS / PEI Grand Chapter
DESCRIPTION:
URL:https://ctoes.org/event/ns-pei-grand-chapter
LOCATION:CT
CATEGORIES:Regional
END:VEVENT
BEGIN:VEVENT
DTSTART;TZID=America/New_York:20230701T080000
DTEND;TZID=America/New_York:20230706T170000
DTSTAMP:20260425T080022
CREATED:20230430T203653Z
LAST-MODIFIED:20230430T205155Z
UID:1257-1688198400-1688662800@ctoes.org
SUMMARY:Massachusetts WGP Bus Trip
DESCRIPTION:Visit Grand Chapter of Nova Scotia and Prince Edward Island\, including Halifax Truro Tour
URL:https://ctoes.org/event/massachusetts-wgp-bus-trip
LOCATION:CT
CATEGORIES:Regional
END:VEVENT
BEGIN:VEVENT
DTSTART;TZID=America/New_York:20230625T140000
DTEND;TZID=America/New_York:20230625T170000
DTSTAMP:20260425T080022
CREATED:20230224T192911Z
LAST-MODIFIED:20230430T195000Z
UID:809-1687701600-1687712400@ctoes.org
SUMMARY:Busy Bees Association and New Kick Off Meeting
DESCRIPTION:A joint meeting with the Busy Bees Association will be held to form Wendy Batterton’s association on June 25 at 2 pm at Frederica 110.
URL:https://ctoes.org/event/busy-bees-association-and-new-kick-off-meeting
LOCATION:CT
CATEGORIES:Activity
END:VEVENT
BEGIN:VEVENT
DTSTART;TZID=America/New_York:20230621T193000
DTEND;TZID=America/New_York:20230621T220000
DTSTAMP:20260425T080022
CREATED:20230528T043927Z
LAST-MODIFIED:20230528T043929Z
UID:1501-1687375800-1687384800@ctoes.org
SUMMARY:Strawberry Shortcake Festival hosted by Temple #53
DESCRIPTION:Following short business meeting.  See Flyer for Details
URL:https://ctoes.org/event/strawberry-shortcake-festival-hosted-by-temple-53
LOCATION:Temple Chapter #53\, 1559 Main Street\, South Windsor\, CT\, 06074\, United States
END:VEVENT
BEGIN:VEVENT
DTSTART;TZID=America/New_York:20230617T130000
DTEND;TZID=America/New_York:20230617T170000
DTSTAMP:20260425T080022
CREATED:20230419T124143Z
LAST-MODIFIED:20230430T194923Z
UID:1113-1687006800-1687021200@ctoes.org
SUMMARY:Official Visitation at Radiant #11
DESCRIPTION:Reception for sister Eleanor Carbonaro – Grand Martha
URL:https://ctoes.org/event/official-visitation-at-radiant-11
LOCATION:Radiant Chapter #11\, 375 Boston Post Road\, North Windham\, CT\, 06256\, United States
CATEGORIES:Official
END:VEVENT
BEGIN:VEVENT
DTSTART;TZID=America/New_York:20230613T193000
DTEND;TZID=America/New_York:20230613T220000
DTSTAMP:20260425T080022
CREATED:20230419T123942Z
LAST-MODIFIED:20230430T194912Z
UID:1111-1686684600-1686693600@ctoes.org
SUMMARY:Official Visitation at Lady Washington #45
DESCRIPTION:
URL:https://ctoes.org/event/official-visitation-at-lady-washington-45
LOCATION:Lady Washington Chapter #45\, 10 Mason Drive\, New Britain\, CT\, 06052\, United States
CATEGORIES:Official
END:VEVENT
BEGIN:VEVENT
DTSTART;TZID=America/New_York:20230611T140000
DTEND;TZID=America/New_York:20230611T170000
DTSTAMP:20260425T080022
CREATED:20230419T122827Z
LAST-MODIFIED:20230430T194812Z
UID:1101-1686492000-1686502800@ctoes.org
SUMMARY:Group Discussion at Mystic #20
DESCRIPTION:Our second Group Discussion for 2023
URL:https://ctoes.org/event/group-discussion-at-mystic20
LOCATION:Mystic Chapter #20\, 9 Country Club Road\, Cheshire\, CT\, 06410\, United States
CATEGORIES:Meeting
END:VEVENT
BEGIN:VEVENT
DTSTART;TZID=America/New_York:20230611T103000
DTEND;TZID=America/New_York:20230611T130000
DTSTAMP:20260425T080022
CREATED:20230419T123117Z
LAST-MODIFIED:20230430T195018Z
UID:1105-1686479400-1686488400@ctoes.org
SUMMARY:Grand View Presentation at Mystic #20
DESCRIPTION:See flyer for details
URL:https://ctoes.org/event/grand-view-presentation-at-mystic-20
LOCATION:Mystic Chapter #20\, 9 Country Club Road\, Cheshire\, CT\, 06410\, United States
CATEGORIES:Activity
END:VEVENT
BEGIN:VEVENT
DTSTART;TZID=America/New_York:20230610T100000
DTEND;TZID=America/New_York:20230610T170000
DTSTAMP:20260425T080022
CREATED:20230419T123811Z
LAST-MODIFIED:20230524T134914Z
UID:1109-1686391200-1686416400@ctoes.org
SUMMARY:Masonic Grand Family Day
DESCRIPTION:See Flyer for details
URL:https://ctoes.org/event/masonic-grand-family-day
LOCATION:CT
CATEGORIES:Activity
END:VEVENT
BEGIN:VEVENT
DTSTART;VALUE=DATE:20230610
DTEND;VALUE=DATE:20230611
DTSTAMP:20260425T080022
CREATED:20230125T223108Z
LAST-MODIFIED:20230125T223108Z
UID:723-1686355200-1686441599@ctoes.org
SUMMARY:Litchfield Arts and Crafts hosted by Ephraim Kirby #75
DESCRIPTION:See Flyer for Details
URL:https://ctoes.org/event/litchfield-arts-and-crafts-hosted-by-ephraim-kirby-75
LOCATION:Ephraim Kirby Chapter #75\, 17 Meadow Street\, Litchfield\, CT\, 06759\, United States
CATEGORIES:Activity
END:VEVENT
BEGIN:VEVENT
DTSTART;TZID=America/New_York:20230608T080000
DTEND;TZID=America/New_York:20230609T170000
DTSTAMP:20260425T080022
CREATED:20230430T202924Z
LAST-MODIFIED:20230430T203026Z
UID:1255-1686211200-1686330000@ctoes.org
SUMMARY:Vermont Grand Chapter
DESCRIPTION:Registration Information and Forms
URL:https://ctoes.org/event/vermont-grand-chapter
LOCATION:CT
CATEGORIES:Regional
END:VEVENT
BEGIN:VEVENT
DTSTART;TZID=America/New_York:20230604T110000
DTEND;TZID=America/New_York:20230604T150000
DTSTAMP:20260425T080022
CREATED:20230419T114852Z
LAST-MODIFIED:20230430T194839Z
UID:1095-1685876400-1685890800@ctoes.org
SUMMARY:Chicken BBQ in Suffield
DESCRIPTION:A chicken BBQ in honor of our late PGP Fred Shmalz is being hosted by Composite Lodge #28 in Suffield.   See attached flyer for details.
URL:https://ctoes.org/event/chicken-bbq
LOCATION:Ionic Chapter #100\, 150 Bridge Street\, Suffield\, CT\, 06078\, United States
CATEGORIES:Activity
END:VEVENT
BEGIN:VEVENT
DTSTART;TZID=America/New_York:20230604T080000
DTEND;TZID=America/New_York:20230604T170000
DTSTAMP:20260425T080022
CREATED:20230530T180344Z
LAST-MODIFIED:20230530T181456Z
UID:1507-1685865600-1685898000@ctoes.org
SUMMARY:Get a Haircut and Support DeMolay
DESCRIPTION:See Flyer for Details
URL:https://ctoes.org/event/get-a-haircut-and-support-demolay
LOCATION:CT
END:VEVENT
BEGIN:VEVENT
DTSTART;TZID=America/New_York:20230526T190000
DTEND;TZID=America/New_York:20230526T213000
DTSTAMP:20260425T080022
CREATED:20230513T155442Z
LAST-MODIFIED:20230513T155443Z
UID:1448-1685127600-1685136600@ctoes.org
SUMMARY:Paint & Sip hosted by Ephraim Kirby #75
DESCRIPTION:Ephraim Kirby is hosting another Paint & Sip – taught by the talented Jessica Dey!  Only 18 spaces are available so email MTetreault444@gmail.com to get your spot reserved!
URL:https://ctoes.org/event/paint-sip-hosted-by-ephraim-kirby-75
LOCATION:Ephraim Kirby Chapter #75\, 17 Meadow Street\, Litchfield\, CT\, 06759\, United States
END:VEVENT
BEGIN:VEVENT
DTSTART;TZID=America/New_York:20230523T193000
DTEND;TZID=America/New_York:20230523T220000
DTSTAMP:20260425T080022
CREATED:20230419T123634Z
LAST-MODIFIED:20230430T194848Z
UID:1107-1684870200-1684879200@ctoes.org
SUMMARY:Official Visitation at Betty Putnam #106
DESCRIPTION:Our first official of the season
URL:https://ctoes.org/event/official-visitation-at-betty-putnam-106
LOCATION:Betty Putnam Chapter #106\, 265 Rt 169\, South Woodstock\, CT\, 06267\, United States
CATEGORIES:Official
END:VEVENT
BEGIN:VEVENT
DTSTART;TZID=America/New_York:20230521T140000
DTEND;TZID=America/New_York:20230521T170000
DTSTAMP:20260425T080022
CREATED:20230419T122620Z
LAST-MODIFIED:20230430T195032Z
UID:1099-1684677600-1684688400@ctoes.org
SUMMARY:Group Discussion at Temple #53
DESCRIPTION:Our first of two Group Discussion for 2023
URL:https://ctoes.org/event/group-discussion-temple-53
LOCATION:Temple Chapter #53\, 1559 Main Street\, South Windsor\, CT\, 06074\, United States
CATEGORIES:Activity
END:VEVENT
BEGIN:VEVENT
DTSTART;TZID=America/New_York:20230518T080000
DTEND;TZID=America/New_York:20230520T170000
DTSTAMP:20260425T080022
CREATED:20230430T202652Z
LAST-MODIFIED:20230430T214034Z
UID:1253-1684396800-1684602000@ctoes.org
SUMMARY:Massachusetts Grand Chapter
DESCRIPTION:Registration Information and Forms   Online Housing
URL:https://ctoes.org/event/massachusetts-grand-chapter
LOCATION:CT
CATEGORIES:Regional
END:VEVENT
BEGIN:VEVENT
DTSTART;TZID=America/New_York:20230515T080000
DTEND;TZID=America/New_York:20230517T170000
DTSTAMP:20260425T080022
CREATED:20230430T200831Z
LAST-MODIFIED:20230430T200833Z
UID:1248-1684137600-1684342800@ctoes.org
SUMMARY:Maine Grand Chapter
DESCRIPTION:Registration information and Forms
URL:https://ctoes.org/event/maine-grand-chapter
LOCATION:CT
CATEGORIES:Regional
END:VEVENT
BEGIN:VEVENT
DTSTART;TZID=America/New_York:20230513T080000
DTEND;TZID=America/New_York:20230513T150000
DTSTAMP:20260425T080022
CREATED:20230501T200933Z
LAST-MODIFIED:20230501T200935Z
UID:1347-1683964800-1683990000@ctoes.org
SUMMARY:Mother's Day Plant Sale hosted by Radiant #11
DESCRIPTION:See Flyer for Details
URL:https://ctoes.org/event/mothers-day-plant-sale-hosted-by-radiant-11
LOCATION:Radiant Chapter #11\, 375 Boston Post Road\, North Windham\, CT\, 06256\, United States
END:VEVENT
BEGIN:VEVENT
DTSTART;TZID=America/New_York:20230506T080000
DTEND;TZID=America/New_York:20230509T170000
DTSTAMP:20260425T080022
CREATED:20230430T200411Z
LAST-MODIFIED:20230430T200550Z
UID:1244-1683360000-1683651600@ctoes.org
SUMMARY:Delaware Grand Chapter
DESCRIPTION:Rohoboth Beach\, DESee flyer for details
URL:https://ctoes.org/event/delaware-grand-chapter
LOCATION:CT
CATEGORIES:Regional
END:VEVENT
BEGIN:VEVENT
DTSTART;TZID=America/New_York:20230505T130000
DTEND;TZID=America/New_York:20230507T120000
DTSTAMP:20260425T080022
CREATED:20230202T234510Z
LAST-MODIFIED:20230430T195045Z
UID:743-1683291600-1683460800@ctoes.org
SUMMARY:Friendship Rally and Camping Weekend
DESCRIPTION:See Flyer for Details
URL:https://ctoes.org/event/friendship-rally-and-camping-weekend
LOCATION:Mineral Springs Campground\, Stafford Springs\, CT.\, 135 Leonard Rd\, Stafford Springs\, CT\, 06076\, United States
CATEGORIES:Activity
END:VEVENT
BEGIN:VEVENT
DTSTART;TZID=America/New_York:20230427T190000
DTEND;TZID=America/New_York:20230429T235959
DTSTAMP:20260425T080022
CREATED:20221123T194340Z
LAST-MODIFIED:20230328T162447Z
UID:522-1682622000-1682812799@ctoes.org
SUMMARY:Connecticut's 148th Grand Chapter Session
DESCRIPTION:The 2023 Grand Chapter Session will be held at the Courtyard by Marriott Hartford Cromwell on Friday and Saturday\, April 28th and 29th\, with an informal opening on Thursday April 27th. \nSee links below for Call\, Registration\, Housing and Meals forms. \nConnecticut Instate Forms                           Out of State Forms \nNote: All pre-registration is by mail only.  A copy of proposed legislation can be obtained from your chapter secretary or at session registration.
URL:https://ctoes.org/event/connecticuts-148th-grand-chapter-session
LOCATION:Courtyard by Marriott Hartford Cromwell\, 4 Sebethe Dr\, Cromwell\, CT\, 06416\, United States
CATEGORIES:Meeting
END:VEVENT
BEGIN:VEVENT
DTSTART;TZID=America/New_York:20230423T170000
DTEND;TZID=America/New_York:20230423T200000
DTSTAMP:20260425T080022
CREATED:20230419T125045Z
LAST-MODIFIED:20230430T194950Z
UID:1115-1682269200-1682280000@ctoes.org
SUMMARY:PGM and PGP Association - Spring Dinner and Meeting
DESCRIPTION:
URL:https://ctoes.org/event/pgm-and-pgp-association-spring-dinner-and-meeting
LOCATION:Fairview Farms Golf Course\, 300 Hill Road\, Harwinton\, Connecticut\, 06791\, United States
CATEGORIES:Activity
END:VEVENT
BEGIN:VEVENT
DTSTART;TZID=America/New_York:20230402T140000
DTEND;TZID=America/New_York:20230402T170000
DTSTAMP:20260425T080022
CREATED:20230224T192746Z
LAST-MODIFIED:20230430T195054Z
UID:807-1680444000-1680454800@ctoes.org
SUMMARY:Busy Bees Association Meeting
DESCRIPTION:The next Busy Bees association meeting will be held on April 2 at 2 pm at Frederica 110.  The bag auction theme will be Spring.
URL:https://ctoes.org/event/busy-bees-association-meeting-2
LOCATION:Frederica Chapter #110\, 70 East Main Street\, Plainville\, CT\, 06062\, United States
CATEGORIES:Activity
END:VEVENT
BEGIN:VEVENT
DTSTART;TZID=America/New_York:20230319T130000
DTEND;TZID=America/New_York:20230319T170000
DTSTAMP:20260425T080022
CREATED:20230304T235611Z
LAST-MODIFIED:20230430T195102Z
UID:857-1679230800-1679245200@ctoes.org
SUMMARY:Grand Representatives Association
DESCRIPTION:To all Grand Representatives\, current and former\, \n\n\n\nThe next meeting of the Grand Representative Association will be held on Sunday\, March 19\,2023 at Good Intent Chapter in South Glastonbury.  Grand Chapter and our responsibilities during the session will be discussed.  There is a potluck at 1:00 pm and the meeting follows at 2:00 pm.  Remember to bring your place settings with you.  We look forward to seeing you there! \n\n\n\nEleanor Carbonaro \n\n\n\nSecretary
URL:https://ctoes.org/event/grand-representatives-association
LOCATION:Good Intent Chapter #17\, 895 Main Street\, South Glastonbury\, CT\, 06073\, United States
CATEGORIES:Activity
END:VEVENT
BEGIN:VEVENT
DTSTART;TZID=America/New_York:20230308T103000
DTEND;TZID=America/New_York:20230310T140000
DTSTAMP:20260425T080022
CREATED:20230205T123707Z
LAST-MODIFIED:20230224T193023Z
UID:754-1678271400-1678456800@ctoes.org
SUMMARY:Nutmegger Reunion
DESCRIPTION:For our Florida Sisters and Brothers — Join us for the Nutmegger Reunions in Boca Raton\, Titusville and New Port Richey \nSee Flyer for details
URL:https://ctoes.org/event/nutmegger-reunion
LOCATION:CT
CATEGORIES:Activity
END:VEVENT
BEGIN:VEVENT
DTSTART;TZID=America/New_York:20230305T180000
DTEND;TZID=America/New_York:20230305T200000
DTSTAMP:20260425T080022
CREATED:20230224T120628Z
LAST-MODIFIED:20230304T212714Z
UID:803-1678039200-1678046400@ctoes.org
SUMMARY:Pottery Fundraiser\, hosted by Frederica #110
DESCRIPTION:Join Frederica Chapter at the Pottery Piazza in Plainville for a fun evening making pottery.  Proceeds will go to the Plainville Food Pantry.Cost is $10.00 plus the cost of the pottery which ranges from $15.00 – $35.00. \nIf interested please call Lisa Butteri 860-877-5228.
URL:https://ctoes.org/event/pottery-fundraiser-hosted-by-frederica-110
LOCATION:Pottery Piazza\, 17 Farmington Ave\, Plainville\, Connecticut\, 06062\, United States
CATEGORIES:Activity
END:VEVENT
BEGIN:VEVENT
DTSTART;TZID=America/New_York:20230305T140000
DTEND;TZID=America/New_York:20230305T170000
DTSTAMP:20260425T080022
CREATED:20230224T192523Z
LAST-MODIFIED:20230430T195113Z
UID:805-1678024800-1678035600@ctoes.org
SUMMARY:Counting Stars Association Meeting
DESCRIPTION:The next Counting Stars Association meeting will now be held as a zoom meeting. \nhttps://us02web.zoom.us/j/83306948360?pwd=SFNFTDhoL3hhVGppU0NhUHNBb3RSQT09 \nMeeting ID: 833 0694 8360Passcode: 385954One tap mobile+16465588656\,\,83306948360#\,\,\,\,*385954# US (New York)+16469313860\,\,83306948360#\,\,\,\,*385954# US \nDial by your location        +1 646 558 8656 US (New York)
URL:https://ctoes.org/event/counting-stars-association-meeting-2
LOCATION:CT
CATEGORIES:Activity
END:VEVENT
BEGIN:VEVENT
DTSTART;TZID=America/New_York:20230304T110000
DTEND;TZID=America/New_York:20230304T140000
DTSTAMP:20260425T080022
CREATED:20230125T222700Z
LAST-MODIFIED:20230125T223130Z
UID:721-1677927600-1677938400@ctoes.org
SUMMARY:Ladies at the Table Hosted by Ephraim Kirby #75
DESCRIPTION:See Flyer for Details
URL:https://ctoes.org/event/ladies-at-the-table-hosted-by-ephraim-kirby-75
LOCATION:Ephraim Kirby Chapter #75\, 17 Meadow Street\, Litchfield\, CT\, 06759\, United States
CATEGORIES:Activity
END:VEVENT
END:VCALENDAR