BEGIN:VCALENDAR
VERSION:2.0
PRODID:-//The Grand Chapter of Connecticut, Order of the Eastern Star, Inc. - ECPv6.15.20//NONSGML v1.0//EN
CALSCALE:GREGORIAN
METHOD:PUBLISH
X-WR-CALNAME:The Grand Chapter of Connecticut, Order of the Eastern Star, Inc.
X-ORIGINAL-URL:https://ctoes.org
X-WR-CALDESC:Events for The Grand Chapter of Connecticut, Order of the Eastern Star, Inc.
REFRESH-INTERVAL;VALUE=DURATION:PT1H
X-Robots-Tag:noindex
X-PUBLISHED-TTL:PT1H
BEGIN:VTIMEZONE
TZID:America/New_York
BEGIN:DAYLIGHT
TZOFFSETFROM:-0500
TZOFFSETTO:-0400
TZNAME:EDT
DTSTART:20220313T070000
END:DAYLIGHT
BEGIN:STANDARD
TZOFFSETFROM:-0400
TZOFFSETTO:-0500
TZNAME:EST
DTSTART:20221106T060000
END:STANDARD
BEGIN:DAYLIGHT
TZOFFSETFROM:-0500
TZOFFSETTO:-0400
TZNAME:EDT
DTSTART:20230312T070000
END:DAYLIGHT
BEGIN:STANDARD
TZOFFSETFROM:-0400
TZOFFSETTO:-0500
TZNAME:EST
DTSTART:20231105T060000
END:STANDARD
BEGIN:DAYLIGHT
TZOFFSETFROM:-0500
TZOFFSETTO:-0400
TZNAME:EDT
DTSTART:20240310T070000
END:DAYLIGHT
BEGIN:STANDARD
TZOFFSETFROM:-0400
TZOFFSETTO:-0500
TZNAME:EST
DTSTART:20241103T060000
END:STANDARD
BEGIN:DAYLIGHT
TZOFFSETFROM:-0500
TZOFFSETTO:-0400
TZNAME:EDT
DTSTART:20250309T070000
END:DAYLIGHT
BEGIN:STANDARD
TZOFFSETFROM:-0400
TZOFFSETTO:-0500
TZNAME:EST
DTSTART:20251102T060000
END:STANDARD
END:VTIMEZONE
BEGIN:VEVENT
DTSTART;TZID=America/New_York:20240102T193000
DTEND;TZID=America/New_York:20240102T220000
DTSTAMP:20260425T113442
CREATED:20230430T215253Z
LAST-MODIFIED:20231219T012814Z
UID:1320-1704223800-1704232800@ctoes.org
SUMMARY:Official Visitation at Marie Lafayette #111
DESCRIPTION:
URL:https://ctoes.org/event/official-visitation-at-marie-lafayette
LOCATION:Marie Lafayette Chapter #111\, 428 Old Stratfield Rd\, Fairfield\, CT\, 06824\, United States
CATEGORIES:Official
END:VEVENT
BEGIN:VEVENT
DTSTART;TZID=America/New_York:20231228T193000
DTEND;TZID=America/New_York:20231228T210000
DTSTAMP:20260425T113442
CREATED:20231212T052413Z
LAST-MODIFIED:20231212T052414Z
UID:2034-1703791800-1703797200@ctoes.org
SUMMARY:Paint & Sip\, Hosted by Alice #76
DESCRIPTION:See Flyer for Details
URL:https://ctoes.org/event/paint-sip-hosted-by-alice-76
LOCATION:Grace & St Johns Church\, 2927 Dixwell Ave\, Hamden\, Connecticut\, United States
END:VEVENT
BEGIN:VEVENT
DTSTART;TZID=America/New_York:20231217T120000
DTEND;TZID=America/New_York:20231217T150000
DTSTAMP:20260425T113442
CREATED:20231214T175205Z
LAST-MODIFIED:20231214T175207Z
UID:2042-1702814400-1702825200@ctoes.org
SUMMARY:Rose Assembly Christmas Party
DESCRIPTION:See Flyer for Details
URL:https://ctoes.org/event/rose-assembly-christmas-party
LOCATION:Mystic Chapter #20\, 9 Country Club Road\, Cheshire\, CT\, 06410\, United States
END:VEVENT
BEGIN:VEVENT
DTSTART;TZID=America/New_York:20231216T150000
DTEND;TZID=America/New_York:20231216T180000
DTSTAMP:20260425T113442
CREATED:20230430T224221Z
LAST-MODIFIED:20231213T211246Z
UID:1335-1702738800-1702749600@ctoes.org
SUMMARY:Official Visitation at Temple #53
DESCRIPTION:Home Chapter of Wayne S Rettburg\, Worthy Grand PatronReception for Barbara F Lott\, PGM\, Grand OrganistReception for Kayla J Rettburg\, Grand AdahReception for Berri L Wayand\, Grand RuthReception for Susan E Everest\, Grand Esther \n\n\n\nSee Invitation for details
URL:https://ctoes.org/event/official-visitation-at-temple-53-ionic-100
LOCATION:Temple Chapter #53\, 1559 Main Street\, South Windsor\, CT\, 06074\, United States
CATEGORIES:Official
END:VEVENT
BEGIN:VEVENT
DTSTART;TZID=America/New_York:20231210T140000
DTEND;TZID=America/New_York:20231210T153000
DTSTAMP:20260425T113442
CREATED:20230430T223836Z
LAST-MODIFIED:20231207T025621Z
UID:1333-1702216800-1702222200@ctoes.org
SUMMARY:Vesper Service
DESCRIPTION:Will be held at Masonicare in Wallingford.
URL:https://ctoes.org/event/vesper-service
LOCATION:CT
CATEGORIES:Activity
END:VEVENT
BEGIN:VEVENT
DTSTART;TZID=America/New_York:20231209T100000
DTEND;TZID=America/New_York:20231209T140000
DTSTAMP:20260425T113442
CREATED:20230430T223408Z
LAST-MODIFIED:20231023T180113Z
UID:1330-1702116000-1702130400@ctoes.org
SUMMARY:Toys for St Mary's and Brunch
DESCRIPTION:See Flyer for details
URL:https://ctoes.org/event/toys-for-st-marys
LOCATION:Lady Martha Chapter #103\, 1 Fan Hill Road\, Monroe\, CT\, United States
CATEGORIES:Activity
END:VEVENT
BEGIN:VEVENT
DTSTART;TZID=America/New_York:20231118T170000
DTEND;TZID=America/New_York:20231118T200000
DTSTAMP:20260425T113442
CREATED:20231118T133444Z
LAST-MODIFIED:20231118T133446Z
UID:1999-1700326800-1700337600@ctoes.org
SUMMARY:Turkey Bingo\, hosted by Temple #53
DESCRIPTION:Play bingo for charity\, and to win items for Thanksgiving dinner \n\n\n\nSee Flyer for details
URL:https://ctoes.org/event/turkey-bingo-hosted-by-temple-53
LOCATION:Temple Chapter #53\, 1559 Main Street\, South Windsor\, CT\, 06074\, United States
END:VEVENT
BEGIN:VEVENT
DTSTART;TZID=America/New_York:20231115T193000
DTEND;TZID=America/New_York:20231115T220000
DTSTAMP:20260425T113442
CREATED:20230430T220511Z
LAST-MODIFIED:20230430T223557Z
UID:1328-1700076600-1700085600@ctoes.org
SUMMARY:Official Visitation at Lady Martha #103
DESCRIPTION:
URL:https://ctoes.org/event/official-visitation-at-lady-martha-103
LOCATION:Lady Martha Chapter #103\, 1 Fan Hill Road\, Monroe\, CT\, United States
CATEGORIES:Official
END:VEVENT
BEGIN:VEVENT
DTSTART;TZID=America/New_York:20231109T193000
DTEND;TZID=America/New_York:20231109T220000
DTSTAMP:20260425T113442
CREATED:20230430T215427Z
LAST-MODIFIED:20231109T162747Z
UID:1322-1699558200-1699567200@ctoes.org
SUMMARY:Official Visitation at Lucia #25 / Alice #76
DESCRIPTION:Home Chapter (25) of Wendy L Batterton\, Associate Grand MatronHome Chapter (25) of William H Zaleha II\, Associate Grand PatronHome Chapter (76) of Judith T Behler\, Associate Grand Conductress
URL:https://ctoes.org/event/official-visitation-at-lucia-25-alice-76
LOCATION:Lucia Chapter #25\, 59 Broad Street\, Milford\, CT\, 06460\, United States
CATEGORIES:Official
END:VEVENT
BEGIN:VEVENT
DTSTART;TZID=America/New_York:20231103T080000
DTEND;TZID=America/New_York:20231105T170000
DTSTAMP:20260425T113442
CREATED:20230430T215134Z
LAST-MODIFIED:20230714T202036Z
UID:1318-1698998400-1699203600@ctoes.org
SUMMARY:International Weekend
DESCRIPTION:Burlington\, VT    See Flyer for more Details and click here for registration
URL:https://ctoes.org/event/international-weekend
LOCATION:CT
CATEGORIES:Regional
END:VEVENT
BEGIN:VEVENT
DTSTART;TZID=America/New_York:20231028T190000
DTEND;TZID=America/New_York:20231028T220000
DTSTAMP:20260425T113442
CREATED:20230430T215005Z
LAST-MODIFIED:20231017T141743Z
UID:1316-1698519600-1698530400@ctoes.org
SUMMARY:Halloween Party
DESCRIPTION:See Flyer for Details and Registration
URL:https://ctoes.org/event/halloween-party
LOCATION:New Haven Masonic Temple\, 285 Whitney Avenue\, New Haven\, Connecticut\, 06511\, United States
CATEGORIES:Activity
END:VEVENT
BEGIN:VEVENT
DTSTART;TZID=America/New_York:20231027T193000
DTEND;TZID=America/New_York:20231027T220000
DTSTAMP:20260425T113442
CREATED:20230430T211106Z
LAST-MODIFIED:20230606T024446Z
UID:1290-1698435000-1698444000@ctoes.org
SUMMARY:Official Visitation at Mystic #20
DESCRIPTION:Home Chapter of Lynn S Wakefield\, PGM\, Grand Secretary
URL:https://ctoes.org/event/official-visitation-at-mystic-20
LOCATION:Mystic Chapter #20\, 9 Country Club Road\, Cheshire\, CT\, 06410\, United States
CATEGORIES:Regional
END:VEVENT
BEGIN:VEVENT
DTSTART;TZID=America/New_York:20231025T193000
DTEND;TZID=America/New_York:20231025T220000
DTSTAMP:20260425T113442
CREATED:20230430T214834Z
LAST-MODIFIED:20230430T214835Z
UID:1314-1698262200-1698271200@ctoes.org
SUMMARY:Official Visitation at Sachem #57
DESCRIPTION:
URL:https://ctoes.org/event/official-visitation-at-sachem-57
LOCATION:Sachem Chapter #57\, 15 Route 165\, Preston\, CT\, 06365\, United States
CATEGORIES:Regional
END:VEVENT
BEGIN:VEVENT
DTSTART;TZID=America/New_York:20231013T080000
DTEND;TZID=America/New_York:20231014T170000
DTSTAMP:20260425T113442
CREATED:20230430T214709Z
LAST-MODIFIED:20230430T214711Z
UID:1312-1697184000-1697302800@ctoes.org
SUMMARY:Rhode Island Grand Chapter
DESCRIPTION:Details TBD
URL:https://ctoes.org/event/rhode-island-grand-chapter
LOCATION:CT
CATEGORIES:Regional
END:VEVENT
BEGIN:VEVENT
DTSTART;TZID=America/New_York:20231011T193000
DTEND;TZID=America/New_York:20231011T220000
DTSTAMP:20260425T113442
CREATED:20230430T214500Z
LAST-MODIFIED:20230430T215909Z
UID:1310-1697052600-1697061600@ctoes.org
SUMMARY:Official Visitation at Frederica #110
DESCRIPTION:Reception for Donna M Larson\, Grand Chaplain
URL:https://ctoes.org/event/official-visitation-at-frederica-110
LOCATION:Frederica Chapter #110\, 70 East Main Street\, Plainville\, CT\, 06062\, United States
CATEGORIES:Official
END:VEVENT
BEGIN:VEVENT
DTSTART;TZID=America/New_York:20231011T133000
DTEND;TZID=America/New_York:20231011T160000
DTSTAMP:20260425T113442
CREATED:20230430T214316Z
LAST-MODIFIED:20230430T215938Z
UID:1308-1697031000-1697040000@ctoes.org
SUMMARY:Official Visitation at Ashlar #116
DESCRIPTION:
URL:https://ctoes.org/event/official-visitation-at-ashlar-116
LOCATION:Ashlar Chapter #116\, Ashlar Village - Bridgehouse\,Cheshire Rd\, Wallingford\, CT\, 06492\, United States
CATEGORIES:Official
END:VEVENT
BEGIN:VEVENT
DTSTART;TZID=America/New_York:20231006T193000
DTEND;TZID=America/New_York:20231006T220000
DTSTAMP:20260425T113442
CREATED:20230430T213720Z
LAST-MODIFIED:20230430T215958Z
UID:1304-1696620600-1696629600@ctoes.org
SUMMARY:Official Visitation at Good Intent #17
DESCRIPTION:Home Chapter of Craig R MacIntyre\, PGP\, Grand Treasurer
URL:https://ctoes.org/event/official-visitation-at-good-intent-17
LOCATION:Good Intent Chapter #17\, 895 Main Street\, South Glastonbury\, CT\, 06073\, United States
CATEGORIES:Official
END:VEVENT
BEGIN:VEVENT
DTSTART;TZID=America/New_York:20231005T193000
DTEND;TZID=America/New_York:20231005T220000
DTSTAMP:20260425T113442
CREATED:20230430T213610Z
LAST-MODIFIED:20230808T015355Z
UID:1302-1696534200-1696543200@ctoes.org
SUMMARY:Official Visitation at Golden Rod #34
DESCRIPTION:Reception for Joanne K Devoe\, Grand Electa \n\n\n\nSee Invitation for Details
URL:https://ctoes.org/event/official-visitation-at-golden-rod-34
LOCATION:Golden Rod Chapter #34\, 263 Center Street\, West Haven\, CT\, 06516\, United States
CATEGORIES:Official
END:VEVENT
BEGIN:VEVENT
DTSTART;TZID=America/New_York:20231001T080000
DTEND;TZID=America/New_York:20231001T170000
DTSTAMP:20260425T113442
CREATED:20230430T213437Z
LAST-MODIFIED:20230929T180252Z
UID:1300-1696147200-1696179600@ctoes.org
SUMMARY:Chocolate Paring and Wine Tasting Train ride
DESCRIPTION:The afternoon begins at the historic 1881 Thomaston Station with a train ride that stops on the spectacular Thomaston Dam on its way to Fascia’s Chocolates where you will make your own chocolate creations! Featuring local Guest Host Wineries for the Chocolate Decadence Tour \n\n\n\nSee Flyer for Details
URL:https://ctoes.org/event/chocolate-paring-and-wine-tasting-train-ride
LOCATION:Thomaston Station\, 242 East Main Street\, Thomaston\, Connecticut\, United States
CATEGORIES:Activity
ORGANIZER;CN="Michele Tetreault":MAILTO:Mtetreault444@gmail.com
END:VEVENT
BEGIN:VEVENT
DTSTART;TZID=America/New_York:20230930T100000
DTEND;TZID=America/New_York:20230930T170000
DTSTAMP:20260425T113442
CREATED:20230430T211350Z
LAST-MODIFIED:20230929T180013Z
UID:1294-1696068000-1696093200@ctoes.org
SUMMARY:Exchange - Queen of the South
DESCRIPTION:See Flyer for Details
URL:https://ctoes.org/event/exchange-queen-of-the-south
LOCATION:New Haven Masonic Temple\, 285 Whitney Avenue\, New Haven\, Connecticut\, 06511\, United States
CATEGORIES:Regional
END:VEVENT
BEGIN:VEVENT
DTSTART;TZID=America/New_York:20230929T083000
DTEND;TZID=America/New_York:20230929T170000
DTSTAMP:20260425T113442
CREATED:20230612T141221Z
LAST-MODIFIED:20230612T141225Z
UID:1523-1695976200-1696006800@ctoes.org
SUMMARY:Pyramid Shriner's Golf Tournament
DESCRIPTION:See Flyer for Details
URL:https://ctoes.org/event/pyramid-shriners-golf-tournament
LOCATION:CT
END:VEVENT
BEGIN:VEVENT
DTSTART;TZID=America/New_York:20230927T193000
DTEND;TZID=America/New_York:20230927T220000
DTSTAMP:20260425T113442
CREATED:20230430T211237Z
LAST-MODIFIED:20230430T220100Z
UID:1292-1695843000-1695852000@ctoes.org
SUMMARY:Official Visitation at Pomperaug #88
DESCRIPTION:Reception for Barbara Jean Mangano\, Grand Warder
URL:https://ctoes.org/event/official-visitation-at-pomperaug-88
LOCATION:Pomperaug Chapter #88\, 477 Main Street South\, Woodbury\, CT\, 06798\, United States
CATEGORIES:Official
END:VEVENT
BEGIN:VEVENT
DTSTART;TZID=America/New_York:20230917T120000
DTEND;TZID=America/New_York:20230917T170000
DTSTAMP:20260425T113442
CREATED:20230421T000831Z
LAST-MODIFIED:20230430T194703Z
UID:1120-1694952000-1694970000@ctoes.org
SUMMARY:Walk in the Woods for Parkinson's
DESCRIPTION:See flyer for details
URL:https://ctoes.org/event/walk-in-the-woods-for-parkinsons
LOCATION:White Memorial Conservation Center\, 80 Whitehall Road\, Litchfield\, Connecticut\, United States
CATEGORIES:Activity
END:VEVENT
BEGIN:VEVENT
DTSTART;TZID=America/New_York:20230913T193000
DTEND;TZID=America/New_York:20230913T220000
DTSTAMP:20260425T113442
CREATED:20230430T210857Z
LAST-MODIFIED:20230816T125113Z
UID:1288-1694633400-1694642400@ctoes.org
SUMMARY:Official Visitation at Azalia #2
DESCRIPTION:Home Chapter of Suzanne L Dana\, Grand ConductressReception for Richard A Kassay\, Grand Sentinel \n\n\n\nSee Invitation for Details
URL:https://ctoes.org/event/official-visitation-at-azalia-2
LOCATION:Azalia Chapter #2\, 3960 Main Street\, Stratford\, CT\, 06614\, United States
CATEGORIES:Official
END:VEVENT
BEGIN:VEVENT
DTSTART;TZID=America/New_York:20230909T080000
DTEND;TZID=America/New_York:20230910T170000
DTSTAMP:20260425T113442
CREATED:20230430T210645Z
LAST-MODIFIED:20230430T213954Z
UID:1286-1694246400-1694365200@ctoes.org
SUMMARY:Prince Hall
DESCRIPTION:Opening on Sept 9th\, Installation on Sept 10th. \n\n\n\nDetails TBD
URL:https://ctoes.org/event/prince-hall
LOCATION:CT
CATEGORIES:Regional
END:VEVENT
BEGIN:VEVENT
DTSTART;TZID=America/New_York:20230908T080000
DTEND;TZID=America/New_York:20230910T170000
DTSTAMP:20260425T113442
CREATED:20230430T210521Z
LAST-MODIFIED:20230430T210523Z
UID:1284-1694160000-1694365200@ctoes.org
SUMMARY:Gathering of 13 States
DESCRIPTION:
URL:https://ctoes.org/event/gathering-of-13-states
LOCATION:CT
CATEGORIES:Regional
END:VEVENT
BEGIN:VEVENT
DTSTART;TZID=America/New_York:20230826T080000
DTEND;TZID=America/New_York:20230829T170000
DTSTAMP:20260425T113442
CREATED:20230430T210129Z
LAST-MODIFIED:20230430T210131Z
UID:1282-1693036800-1693328400@ctoes.org
SUMMARY:Ontario Grand Chapter
DESCRIPTION:Details TBD
URL:https://ctoes.org/event/ontario-grand-chapter
LOCATION:CT
CATEGORIES:Regional
END:VEVENT
BEGIN:VEVENT
DTSTART;TZID=America/New_York:20230825T080000
DTEND;TZID=America/New_York:20230827T170000
DTSTAMP:20260425T113442
CREATED:20230430T212644Z
LAST-MODIFIED:20230430T214003Z
UID:1296-1692950400-1693155600@ctoes.org
SUMMARY:Sight and Sound Bus Trip - Moses
DESCRIPTION:Join us for a 3 day bus trip to Lancaster PA to see the Sight and Sound production of Moses.  Lots of time for meals and shopping. \n\n\n\nSee Flyer for Details
URL:https://ctoes.org/event/sight-and-sound-bus-trip-moses
LOCATION:CT
CATEGORIES:Trip
ORGANIZER;CN="Michele Tetreault":MAILTO:Mtetreault444@gmail.com
END:VEVENT
BEGIN:VEVENT
DTSTART;TZID=America/New_York:20230818T080000
DTEND;TZID=America/New_York:20230819T170000
DTSTAMP:20260425T113442
CREATED:20230430T210004Z
LAST-MODIFIED:20230430T214011Z
UID:1280-1692345600-1692464400@ctoes.org
SUMMARY:New Hampshire Grand Chapter
DESCRIPTION:Registration Information and Forms
URL:https://ctoes.org/event/new-hampshire-grand-chapter
LOCATION:CT
CATEGORIES:Regional
END:VEVENT
BEGIN:VEVENT
DTSTART;TZID=America/New_York:20230812T100000
DTEND;TZID=America/New_York:20230813T160000
DTSTAMP:20260425T113442
CREATED:20221123T193700Z
LAST-MODIFIED:20230412T125813Z
UID:516-1691834400-1691942400@ctoes.org
SUMMARY:Peace Garden Pilgrimage with General Grand Chapter 
DESCRIPTION:See Flyer for Details
URL:https://ctoes.org/event/peace-garden-pilgrimage-with-general-grand-chapter
LOCATION:CT
CATEGORIES:Regional
END:VEVENT
END:VCALENDAR