BEGIN:VCALENDAR
VERSION:2.0
PRODID:-//The Grand Chapter of Connecticut, Order of the Eastern Star, Inc. - ECPv6.15.20//NONSGML v1.0//EN
CALSCALE:GREGORIAN
METHOD:PUBLISH
X-WR-CALNAME:The Grand Chapter of Connecticut, Order of the Eastern Star, Inc.
X-ORIGINAL-URL:https://ctoes.org
X-WR-CALDESC:Events for The Grand Chapter of Connecticut, Order of the Eastern Star, Inc.
REFRESH-INTERVAL;VALUE=DURATION:PT1H
X-Robots-Tag:noindex
X-PUBLISHED-TTL:PT1H
BEGIN:VTIMEZONE
TZID:America/New_York
BEGIN:DAYLIGHT
TZOFFSETFROM:-0500
TZOFFSETTO:-0400
TZNAME:EDT
DTSTART:20230312T070000
END:DAYLIGHT
BEGIN:STANDARD
TZOFFSETFROM:-0400
TZOFFSETTO:-0500
TZNAME:EST
DTSTART:20231105T060000
END:STANDARD
BEGIN:DAYLIGHT
TZOFFSETFROM:-0500
TZOFFSETTO:-0400
TZNAME:EDT
DTSTART:20240310T070000
END:DAYLIGHT
BEGIN:STANDARD
TZOFFSETFROM:-0400
TZOFFSETTO:-0500
TZNAME:EST
DTSTART:20241103T060000
END:STANDARD
BEGIN:DAYLIGHT
TZOFFSETFROM:-0500
TZOFFSETTO:-0400
TZNAME:EDT
DTSTART:20250309T070000
END:DAYLIGHT
BEGIN:STANDARD
TZOFFSETFROM:-0400
TZOFFSETTO:-0500
TZNAME:EST
DTSTART:20251102T060000
END:STANDARD
END:VTIMEZONE
BEGIN:VEVENT
DTSTART;TZID=America/New_York:20240916T193000
DTEND;TZID=America/New_York:20240916T220000
DTSTAMP:20260425T083231
CREATED:20240505T180000Z
LAST-MODIFIED:20240715T193532Z
UID:2309-1726515000-1726524000@ctoes.org
SUMMARY:Official Visitation at Ephraim Kirby #75
DESCRIPTION:Reception for Grand Adah and Grand EstherSee Invitation for details
URL:https://ctoes.org/event/official-visitation-at-ephraim-kirby-75-2
LOCATION:Ephraim Kirby Chapter #75\, 17 Meadow Street\, Litchfield\, CT\, 06759\, United States
CATEGORIES:Official
END:VEVENT
BEGIN:VEVENT
DTSTART;TZID=America/New_York:20240915T100000
DTEND;TZID=America/New_York:20240915T130000
DTSTAMP:20260425T083231
CREATED:20240623T190333Z
LAST-MODIFIED:20240623T193540Z
UID:2480-1726394400-1726405200@ctoes.org
SUMMARY:4th Heart Association Walk
DESCRIPTION:Last of 4 Walks in Connecticut Parks. See Flyer for details
URL:https://ctoes.org/event/3rd-heart-association-walk
LOCATION:Sleeping Giant State Park\, 200 Mount Carmel Ave\, Hamden\, CT\, 06518\, United States
CATEGORIES:Activity
END:VEVENT
BEGIN:VEVENT
DTSTART;TZID=America/New_York:20240914T090000
DTEND;TZID=America/New_York:20240914T140000
DTSTAMP:20260425T083231
CREATED:20240912T160042Z
LAST-MODIFIED:20240912T160044Z
UID:2668-1726304400-1726322400@ctoes.org
SUMMARY:CT Prince Hall Grand Chapter
DESCRIPTION:The full session runs from Thursday 9/11 through Sunday 9/15.   Visitors will be introduced on Saturday 9/14.  Please plan to arrive for onsite registration by 9am.
URL:https://ctoes.org/event/ct-prince-hall-grand-chapter-2
LOCATION:Holiday Inn Express\, New London\, 35 Governor Winthrop Blvd\, New London\, CT\, United States
END:VEVENT
BEGIN:VEVENT
DTSTART;TZID=America/New_York:20240910T193000
DTEND;TZID=America/New_York:20240910T220000
DTSTAMP:20260425T083231
CREATED:20240505T180000Z
LAST-MODIFIED:20240501T145528Z
UID:2307-1725996600-1726005600@ctoes.org
SUMMARY:Official Visitation at Lady Washington #45
DESCRIPTION:
URL:https://ctoes.org/event/official-visitation-at-lady-washington-45-2
LOCATION:Lady Washington Chapter #45\, 10 Mason Drive\, New Britain\, CT\, 06052\, United States
CATEGORIES:Official
END:VEVENT
BEGIN:VEVENT
DTSTART;TZID=America/New_York:20240904T193000
DTEND;TZID=America/New_York:20240904T220000
DTSTAMP:20260425T083231
CREATED:20240505T180000Z
LAST-MODIFIED:20240428T232045Z
UID:2269-1725478200-1725487200@ctoes.org
SUMMARY:Official Visitation at Temple #53
DESCRIPTION:Home Chapter of Associate Grand Conductress
URL:https://ctoes.org/event/official-visitation-at-temple-53
LOCATION:Temple Chapter #53\, 1559 Main Street\, South Windsor\, CT\, 06074\, United States
CATEGORIES:Official
END:VEVENT
BEGIN:VEVENT
DTSTART;TZID=America/New_York:20240828T190000
DTEND;TZID=America/New_York:20240828T220000
DTSTAMP:20260425T083231
CREATED:20240628T230909Z
LAST-MODIFIED:20240628T231041Z
UID:2524-1724871600-1724882400@ctoes.org
SUMMARY:Grocery Bingo at Lady Martha #103
DESCRIPTION:Join us for Summer Bingo\, July 10/24\, August 14/28See Flyer for Details.
URL:https://ctoes.org/event/grocery-bingo-at-lady-martha-103-4
LOCATION:Lady Martha Chapter #103\, 1 Fan Hill Road\, Monroe\, CT\, United States
CATEGORIES:Activity
END:VEVENT
BEGIN:VEVENT
DTSTART;TZID=America/New_York:20240824T100000
DTEND;TZID=America/New_York:20240824T130000
DTSTAMP:20260425T083231
CREATED:20240623T194008Z
LAST-MODIFIED:20240623T194020Z
UID:2507-1724493600-1724504400@ctoes.org
SUMMARY:3rd Walk for Heart Association
DESCRIPTION:3rd of 4 walks in Connecticut Parks.   See Flyer for Details
URL:https://ctoes.org/event/3rd-walk-for-heart-association
LOCATION:Walnut Beach\, 113 E Broadway\, Milford\, Connecticut\, 06460\, United States
CATEGORIES:Activity
END:VEVENT
BEGIN:VEVENT
DTSTART;TZID=America/New_York:20240814T190000
DTEND;TZID=America/New_York:20240814T220000
DTSTAMP:20260425T083231
CREATED:20240628T230800Z
LAST-MODIFIED:20240628T231049Z
UID:2522-1723662000-1723672800@ctoes.org
SUMMARY:Grocery Bingo at Lady Martha #103
DESCRIPTION:Join us for Summer Bingo\, July 10/24\, August 14/28See Flyer for Details.
URL:https://ctoes.org/event/grocery-bingo-at-lady-martha-103-3
LOCATION:Lady Martha Chapter #103\, 1 Fan Hill Road\, Monroe\, CT\, United States
CATEGORIES:Activity
END:VEVENT
BEGIN:VEVENT
DTSTART;TZID=America/New_York:20240811T130000
DTEND;TZID=America/New_York:20240811T170000
DTSTAMP:20260425T083231
CREATED:20240411T234746Z
LAST-MODIFIED:20240811T145117Z
UID:2243-1723381200-1723395600@ctoes.org
SUMMARY:Connecticut OES 150th Celebration
DESCRIPTION:Join the celebration for Connecticut OES 150th Anniversary. See Flyer for Details\, and this Latest Helpful Information for attendees.
URL:https://ctoes.org/event/connectict-oes-150th-celebration
LOCATION:Lake of Isles\, 1 Clubhouse Dr\, Stonington\, Connecticut\, 06359\, United States
CATEGORIES:Activity
ORGANIZER;CN="Jean Spoor":MAILTO:puddleduck71@comcast.net
END:VEVENT
BEGIN:VEVENT
DTSTART;TZID=America/New_York:20240727T093000
DTEND;TZID=America/New_York:20240727T170000
DTSTAMP:20260425T083231
CREATED:20240428T183807Z
LAST-MODIFIED:20240726T173813Z
UID:2263-1722072600-1722099600@ctoes.org
SUMMARY:Mystery Trip
DESCRIPTION:See Flyer for Details
URL:https://ctoes.org/event/mystery-trip
LOCATION:Cheshire Milldale Commuter Lot\, Milldale Park & Ride (Highland Ave)\, Cheshire\, Connecticut\, 06410\, United States
CATEGORIES:Trip
ORGANIZER;CN="Janet Berry":MAILTO:smokeyberry@gmail.com
END:VEVENT
BEGIN:VEVENT
DTSTART;TZID=America/New_York:20240724T190000
DTEND;TZID=America/New_York:20240724T220000
DTSTAMP:20260425T083231
CREATED:20240628T230649Z
LAST-MODIFIED:20240628T230651Z
UID:2520-1721847600-1721858400@ctoes.org
SUMMARY:Grocery Bingo at Lady Martha #103
DESCRIPTION:Join us for Summer Bingo\, July 10/24\, August 14/28See Flyer for Details.
URL:https://ctoes.org/event/grocery-bingo-at-lady-martha-103-2
LOCATION:Lady Martha Chapter #103\, 1 Fan Hill Road\, Monroe\, CT\, United States
CATEGORIES:Activity
END:VEVENT
BEGIN:VEVENT
DTSTART;TZID=America/New_York:20240714T100000
DTEND;TZID=America/New_York:20240714T170000
DTSTAMP:20260425T083231
CREATED:20240428T225820Z
LAST-MODIFIED:20240501T145105Z
UID:2265-1720951200-1720976400@ctoes.org
SUMMARY:DeMolay Conclave
DESCRIPTION:West Haven at UNH.   Details to follow
URL:https://ctoes.org/event/demolay-conclave-2
LOCATION:CT
CATEGORIES:Regional
END:VEVENT
BEGIN:VEVENT
DTSTART;TZID=America/New_York:20240713T181000
DTEND;TZID=America/New_York:20240713T210000
DTSTAMP:20260425T083231
CREATED:20240411T234554Z
LAST-MODIFIED:20240501T145112Z
UID:2241-1720894200-1720904400@ctoes.org
SUMMARY:Yard Goats Game\, Dunkin Stadium
DESCRIPTION:Detail TBD
URL:https://ctoes.org/event/yard-goats-game-dunkin-stadium
LOCATION:CT
CATEGORIES:Activity
END:VEVENT
BEGIN:VEVENT
DTSTART;TZID=America/New_York:20240710T190000
DTEND;TZID=America/New_York:20240710T220000
DTSTAMP:20260425T083231
CREATED:20240628T230327Z
LAST-MODIFIED:20240628T231100Z
UID:2518-1720638000-1720648800@ctoes.org
SUMMARY:Grocery Bingo at Lady Martha #103
DESCRIPTION:Join us for Summer Bingo\, July 10/24\, August 14/28See Flyer for Details.
URL:https://ctoes.org/event/grocery-bingo-at-lady-martha-103
LOCATION:Lady Martha Chapter #103\, 1 Fan Hill Road\, Monroe\, CT\, United States
CATEGORIES:Activity
END:VEVENT
BEGIN:VEVENT
DTSTART;TZID=America/New_York:20240629T130000
DTEND;TZID=America/New_York:20240629T160000
DTSTAMP:20260425T083231
CREATED:20240403T145705Z
LAST-MODIFIED:20240403T145707Z
UID:2204-1719666000-1719676800@ctoes.org
SUMMARY:Radiant #11 Celebrates 150th Anniversary
DESCRIPTION:Come celebrate with us!    See flyer for details
URL:https://ctoes.org/event/radiant-11-celebrates-150th-anniversary
LOCATION:Black Dog Bar & Grille\, 146 Park Road\, Putnam\, Connecticut\, United States
CATEGORIES:Activity
ORGANIZER;CN="Sandra Antonellis":MAILTO:sandyladyluck@aol.com
END:VEVENT
BEGIN:VEVENT
DTSTART;TZID=America/New_York:20240621T180000
DTEND;TZID=America/New_York:20240621T220000
DTSTAMP:20260425T083231
CREATED:20240523T141317Z
LAST-MODIFIED:20240628T231108Z
UID:2419-1718992800-1719007200@ctoes.org
SUMMARY:Hawaiian Pot Luck at Good Intent #17
DESCRIPTION:Good Intent 17 is having our annual Hawaiian Pot-Luck Night in honor of our Past Matrons and Past Patrons on Friday\, June 21st. Please join us for a fun summer meal and meeting. If you would like to bring a dish for the Pot-Luck\, please email Sister Kimberlee to get added to the list. There will be a fundraising event after the meeting. Please RSVP to Sister Kimberlee by June 19th at knpar2@gmail.com or text 860-876-0879
URL:https://ctoes.org/event/hawaiian-pot-luck-at-good-intent-17
LOCATION:Good Intent Chapter #17\, 895 Main Street\, South Glastonbury\, CT\, 06073\, United States
CATEGORIES:Activity
END:VEVENT
BEGIN:VEVENT
DTSTART;TZID=America/New_York:20240615T080000
DTEND;TZID=America/New_York:20240615T170000
DTSTAMP:20260425T083231
CREATED:20240411T234414Z
LAST-MODIFIED:20240501T145126Z
UID:2239-1718438400-1718470800@ctoes.org
SUMMARY:2nd Heart Association Walk
DESCRIPTION:Castle Craig\, Meriden — Detail TBD
URL:https://ctoes.org/event/2nd-heart-association-walk
LOCATION:CT
CATEGORIES:Activity
END:VEVENT
BEGIN:VEVENT
DTSTART;TZID=America/New_York:20240608T100000
DTEND;TZID=America/New_York:20240608T150000
DTSTAMP:20260425T083231
CREATED:20240507T110232Z
LAST-MODIFIED:20240507T110234Z
UID:2366-1717840800-1717858800@ctoes.org
SUMMARY:Grand Masters Day
DESCRIPTION:See Flyer for Details
URL:https://ctoes.org/event/grand-masters-day
LOCATION:Masonicare\, 22 Masonic Avenue\, Wallingford\, Connecticut\, United States
CATEGORIES:Activity
END:VEVENT
BEGIN:VEVENT
DTSTART;TZID=America/New_York:20240608T090000
DTEND;TZID=America/New_York:20240608T150000
DTSTAMP:20260425T083231
CREATED:20231231T022546Z
LAST-MODIFIED:20240315T151402Z
UID:2050-1717837200-1717858800@ctoes.org
SUMMARY:Lichfield Craft Fair\, hosted by Ephraim Kirby #75 and Hope Assembly #46
DESCRIPTION:This is the annual fundraiser run by Ephraim Kirby #75 and Hope Assembly #46. We are actively looking for vendors to sign up to have booths for this event. For more information please go to www.LMarketplace.org or email us at Info@LMarketplace.org \n\n\n\nSee Flyer for Details
URL:https://ctoes.org/event/lichfield-craft-fair-hosted-by-ephraim-kirby-75-and-hope-assembly-46
LOCATION:Litchfield Marketplace\, 45 West St\, Litchfield\, Connecticut\, United States
CATEGORIES:Activity
END:VEVENT
BEGIN:VEVENT
DTSTART;TZID=America/New_York:20240602T130000
DTEND;TZID=America/New_York:20240602T160000
DTSTAMP:20260425T083231
CREATED:20240514T004612Z
LAST-MODIFIED:20240514T004614Z
UID:2393-1717333200-1717344000@ctoes.org
SUMMARY:HKA Association Meeting
DESCRIPTION:Please join us for the next HKA Association and kick off for Suzi and Rick’s association. \n\n\n\nSee flyer for details
URL:https://ctoes.org/event/hka-association-meeting
LOCATION:Good Intent Chapter #17\, 895 Main Street\, South Glastonbury\, CT\, 06073\, United States
CATEGORIES:Activity
END:VEVENT
BEGIN:VEVENT
DTSTART;TZID=America/New_York:20240601T140000
DTEND;TZID=America/New_York:20240601T170000
DTSTAMP:20260425T083231
CREATED:20240410T205043Z
LAST-MODIFIED:20240410T205044Z
UID:2225-1717250400-1717261200@ctoes.org
SUMMARY:Group Discussion
DESCRIPTION:
URL:https://ctoes.org/event/group-discussion-2
LOCATION:Temple Chapter #53\, 1559 Main Street\, South Windsor\, CT\, 06074\, United States
CATEGORIES:Activity
END:VEVENT
BEGIN:VEVENT
DTSTART;TZID=America/New_York:20240525T100000
DTEND;TZID=America/New_York:20240525T130000
DTSTAMP:20260425T083231
CREATED:20240410T205245Z
LAST-MODIFIED:20240522T135511Z
UID:2227-1716631200-1716642000@ctoes.org
SUMMARY:1st Heart Association Walk
DESCRIPTION:
URL:https://ctoes.org/event/1st-heart-association-walk
LOCATION:West Haven Beach\, 1 Rock St\, West haven\, Connecticut\, 06516\, United States
CATEGORIES:Activity
END:VEVENT
BEGIN:VEVENT
DTSTART;TZID=America/New_York:20240517T180000
DTEND;TZID=America/New_York:20240517T210000
DTSTAMP:20260425T083231
CREATED:20240403T151241Z
LAST-MODIFIED:20240403T151253Z
UID:2210-1715968800-1715979600@ctoes.org
SUMMARY:Masonicare Wine\, Beer & Bourbon Tasting
DESCRIPTION:See Flyer for details
URL:https://ctoes.org/event/masonicare-wine-beer-bourbon-tasting
LOCATION:Knapp Auditorium\, Masonicare\, 74 Cheshire Road\, Wallingford\, Connecticut\, 06492\, United States
CATEGORIES:Activity
END:VEVENT
BEGIN:VEVENT
DTSTART;TZID=America/New_York:20240505T140000
DTEND;TZID=America/New_York:20240505T170000
DTSTAMP:20260425T083231
CREATED:20240410T204910Z
LAST-MODIFIED:20240410T204912Z
UID:2223-1714917600-1714928400@ctoes.org
SUMMARY:Group Discussion
DESCRIPTION:
URL:https://ctoes.org/event/group-discussion
LOCATION:Mystic Chapter #20\, 9 Country Club Road\, Cheshire\, CT\, 06410\, United States
CATEGORIES:Activity
END:VEVENT
BEGIN:VEVENT
DTSTART;TZID=America/New_York:20240503T193000
DTEND;TZID=America/New_York:20240503T220000
DTSTAMP:20260425T083231
CREATED:20240428T175541Z
LAST-MODIFIED:20240428T175543Z
UID:2258-1714764600-1714773600@ctoes.org
SUMMARY:Star Point Night at Good Intent #17
DESCRIPTION:Good Intent is having a Star Point Night on May 3rd at 7:30pm. If any past or current Star Point Sisters are interested in helping us do a short ceremony\, please email Kimberlee N. Lee at knpar2@gmail.com. There will also be a small raffle after the meeting. Please RSVP to Kimberlee N. Lee. We hope to see you there!
URL:https://ctoes.org/event/star-point-night-at-good-intent-17
LOCATION:Good Intent Chapter #17\, 895 Main Street\, South Glastonbury\, CT\, 06073\, United States
CATEGORIES:Meeting
ORGANIZER;CN="Kimberlee Lee":MAILTO:knpar2@gmail.com
END:VEVENT
BEGIN:VEVENT
DTSTART;TZID=America/New_York:20240425T190000
DTEND;TZID=America/New_York:20240427T220000
DTSTAMP:20260425T083231
CREATED:20240216T013933Z
LAST-MODIFIED:20240315T151412Z
UID:2134-1714071600-1714255200@ctoes.org
SUMMARY:CT Grand Chapter Session 2024
DESCRIPTION:
URL:https://ctoes.org/event/ct-grand-chapter-session-2024
LOCATION:CT
CATEGORIES:Meeting
END:VEVENT
BEGIN:VEVENT
DTSTART;TZID=America/New_York:20240401T235900
DTEND;TZID=America/New_York:20240401T235900
DTSTAMP:20260425T083231
CREATED:20240216T013757Z
LAST-MODIFIED:20240315T151425Z
UID:2132-1712015940-1712015940@ctoes.org
SUMMARY:Grand Chapter Pre-Registration Deadline
DESCRIPTION:
URL:https://ctoes.org/event/grand-chapter-pre-registration-deadline
LOCATION:CT
CATEGORIES:Activity
END:VEVENT
BEGIN:VEVENT
DTSTART;TZID=America/New_York:20240323T130000
DTEND;TZID=America/New_York:20240323T150000
DTSTAMP:20260425T083231
CREATED:20240315T151332Z
LAST-MODIFIED:20240315T151333Z
UID:2181-1711198800-1711206000@ctoes.org
SUMMARY:Amaranth Grand Court Installation
DESCRIPTION:Banquet to follow at 6pm
URL:https://ctoes.org/event/amaranth-grand-court-installation
LOCATION:Heritage Hotel Southbury\, 522 Heritage Road\, Southbury\, Connecticut\, United States
CATEGORIES:Regional
END:VEVENT
BEGIN:VEVENT
DTSTART;TZID=America/New_York:20240321T190000
DTEND;TZID=America/New_York:20240321T220000
DTSTAMP:20260425T083231
CREATED:20240315T151126Z
LAST-MODIFIED:20240315T151433Z
UID:2177-1711047600-1711058400@ctoes.org
SUMMARY:Amaranth Grand Court Informal Opening
DESCRIPTION:Arrive by 6:30pm for registration
URL:https://ctoes.org/event/amaranth-grand-court-informal-opening
LOCATION:Heritage Hotel Southbury\, 522 Heritage Road\, Southbury\, Connecticut\, United States
CATEGORIES:Regional
END:VEVENT
BEGIN:VEVENT
DTSTART;TZID=America/New_York:20240315T190000
DTEND;TZID=America/New_York:20240315T220000
DTSTAMP:20260425T083231
CREATED:20240315T150834Z
LAST-MODIFIED:20240315T151441Z
UID:2173-1710529200-1710540000@ctoes.org
SUMMARY:IORG Grand Assembly Informal Opening
DESCRIPTION:Arrive by 6:30pm for registration
URL:https://ctoes.org/event/iorg-grand-assembly-informal-opening
LOCATION:Trumbull Marriott Shelton\, 180 Hawley Lane\, Trumbull\, Connecticut\, United States
CATEGORIES:Regional
END:VEVENT
END:VCALENDAR