BEGIN:VCALENDAR
VERSION:2.0
PRODID:-//The Grand Chapter of Connecticut, Order of the Eastern Star, Inc. - ECPv6.15.20//NONSGML v1.0//EN
CALSCALE:GREGORIAN
METHOD:PUBLISH
X-WR-CALNAME:The Grand Chapter of Connecticut, Order of the Eastern Star, Inc.
X-ORIGINAL-URL:https://ctoes.org
X-WR-CALDESC:Events for The Grand Chapter of Connecticut, Order of the Eastern Star, Inc.
REFRESH-INTERVAL;VALUE=DURATION:PT1H
X-Robots-Tag:noindex
X-PUBLISHED-TTL:PT1H
BEGIN:VTIMEZONE
TZID:America/New_York
BEGIN:DAYLIGHT
TZOFFSETFROM:-0500
TZOFFSETTO:-0400
TZNAME:EDT
DTSTART:20240310T070000
END:DAYLIGHT
BEGIN:STANDARD
TZOFFSETFROM:-0400
TZOFFSETTO:-0500
TZNAME:EST
DTSTART:20241103T060000
END:STANDARD
BEGIN:DAYLIGHT
TZOFFSETFROM:-0500
TZOFFSETTO:-0400
TZNAME:EDT
DTSTART:20250309T070000
END:DAYLIGHT
BEGIN:STANDARD
TZOFFSETFROM:-0400
TZOFFSETTO:-0500
TZNAME:EST
DTSTART:20251102T060000
END:STANDARD
BEGIN:DAYLIGHT
TZOFFSETFROM:-0500
TZOFFSETTO:-0400
TZNAME:EDT
DTSTART:20260308T070000
END:DAYLIGHT
BEGIN:STANDARD
TZOFFSETFROM:-0400
TZOFFSETTO:-0500
TZNAME:EST
DTSTART:20261101T060000
END:STANDARD
END:VTIMEZONE
BEGIN:VEVENT
DTSTART;TZID=America/New_York:20251115T100000
DTEND;TZID=America/New_York:20251115T130000
DTSTAMP:20260424T013252
CREATED:20250427T183145Z
LAST-MODIFIED:20251115T021412Z
UID:3151-1763200800-1763211600@ctoes.org
SUMMARY:Heart Walk - Kent Falls
DESCRIPTION:Healthy Walks continue at Kent Falls State Park
URL:https://ctoes.org/event/heart-walk-2
LOCATION:Kent Falls State Park\, 462 Kent Cornwall Road\, Kent\, Connecticut\, 06757\, United States
CATEGORIES:Activity
END:VEVENT
END:VCALENDAR