BEGIN:VCALENDAR
VERSION:2.0
PRODID:-//The Grand Chapter of Connecticut, Order of the Eastern Star, Inc. - ECPv6.15.20//NONSGML v1.0//EN
CALSCALE:GREGORIAN
METHOD:PUBLISH
X-WR-CALNAME:The Grand Chapter of Connecticut, Order of the Eastern Star, Inc.
X-ORIGINAL-URL:https://ctoes.org
X-WR-CALDESC:Events for The Grand Chapter of Connecticut, Order of the Eastern Star, Inc.
REFRESH-INTERVAL;VALUE=DURATION:PT1H
X-Robots-Tag:noindex
X-PUBLISHED-TTL:PT1H
BEGIN:VTIMEZONE
TZID:America/New_York
BEGIN:DAYLIGHT
TZOFFSETFROM:-0500
TZOFFSETTO:-0400
TZNAME:EDT
DTSTART:20250309T070000
END:DAYLIGHT
BEGIN:STANDARD
TZOFFSETFROM:-0400
TZOFFSETTO:-0500
TZNAME:EST
DTSTART:20251102T060000
END:STANDARD
BEGIN:DAYLIGHT
TZOFFSETFROM:-0500
TZOFFSETTO:-0400
TZNAME:EDT
DTSTART:20260308T070000
END:DAYLIGHT
BEGIN:STANDARD
TZOFFSETFROM:-0400
TZOFFSETTO:-0500
TZNAME:EST
DTSTART:20261101T060000
END:STANDARD
BEGIN:DAYLIGHT
TZOFFSETFROM:-0500
TZOFFSETTO:-0400
TZNAME:EDT
DTSTART:20270314T070000
END:DAYLIGHT
BEGIN:STANDARD
TZOFFSETFROM:-0400
TZOFFSETTO:-0500
TZNAME:EST
DTSTART:20271107T060000
END:STANDARD
END:VTIMEZONE
BEGIN:VEVENT
DTSTART;TZID=America/New_York:20260527T193000
DTEND;TZID=America/New_York:20260527T220000
DTSTAMP:20260424T122020
CREATED:20260308T195040Z
LAST-MODIFIED:20260308T195046Z
UID:3783-1779910200-1779919200@ctoes.org
SUMMARY:Official Visitation at Pomperaug #88
DESCRIPTION:
URL:https://ctoes.org/event/official-visitation-at-pomperaug-88-4
LOCATION:Pomperaug Chapter #88\, 477 Main Street South\, Woodbury\, CT\, 06798\, United States
END:VEVENT
END:VCALENDAR