BEGIN:VCALENDAR
VERSION:2.0
PRODID:-//The Grand Chapter of Connecticut, Order of the Eastern Star, Inc. - ECPv6.15.20//NONSGML v1.0//EN
CALSCALE:GREGORIAN
METHOD:PUBLISH
X-ORIGINAL-URL:https://ctoes.org
X-WR-CALDESC:Events for The Grand Chapter of Connecticut, Order of the Eastern Star, Inc.
REFRESH-INTERVAL;VALUE=DURATION:PT1H
X-Robots-Tag:noindex
X-PUBLISHED-TTL:PT1H
BEGIN:VTIMEZONE
TZID:America/New_York
BEGIN:DAYLIGHT
TZOFFSETFROM:-0500
TZOFFSETTO:-0400
TZNAME:EDT
DTSTART:20240310T070000
END:DAYLIGHT
BEGIN:STANDARD
TZOFFSETFROM:-0400
TZOFFSETTO:-0500
TZNAME:EST
DTSTART:20241103T060000
END:STANDARD
BEGIN:DAYLIGHT
TZOFFSETFROM:-0500
TZOFFSETTO:-0400
TZNAME:EDT
DTSTART:20250309T070000
END:DAYLIGHT
BEGIN:STANDARD
TZOFFSETFROM:-0400
TZOFFSETTO:-0500
TZNAME:EST
DTSTART:20251102T060000
END:STANDARD
BEGIN:DAYLIGHT
TZOFFSETFROM:-0500
TZOFFSETTO:-0400
TZNAME:EDT
DTSTART:20260308T070000
END:DAYLIGHT
BEGIN:STANDARD
TZOFFSETFROM:-0400
TZOFFSETTO:-0500
TZNAME:EST
DTSTART:20261101T060000
END:STANDARD
END:VTIMEZONE
BEGIN:VEVENT
DTSTART;TZID=America/New_York:20251024T173000
DTEND;TZID=America/New_York:20251024T210000
DTSTAMP:20260424T185523
CREATED:20250930T225552Z
LAST-MODIFIED:20251007T205922Z
UID:3518-1761327000-1761339600@ctoes.org
SUMMARY:Paranormal Dinner and Ghost Tour\, hosted by Frederica #110
DESCRIPTION:Join Frederica at “the most haunted restaurant in America”. Benefits to support the “Gifts of Love” Charity. \n\n\n\nSee Flyer for more details
URL:https://ctoes.org/event/paranormal-dinner-and-ghost-tour-hosted-by-frederica-110
LOCATION:Twisted Vine Restaurant\, 285 Main St.\, Derby\, Connecticut\, 06418\, United States
ORGANIZER;CN="Carl Larson%2C PGP%2C Secretary":MAILTO:carl.p.larson@gmail.com
END:VEVENT
END:VCALENDAR