BEGIN:VCALENDAR
VERSION:2.0
PRODID:-//The Grand Chapter of Connecticut, Order of the Eastern Star, Inc. - ECPv6.15.20//NONSGML v1.0//EN
CALSCALE:GREGORIAN
METHOD:PUBLISH
X-WR-CALNAME:The Grand Chapter of Connecticut, Order of the Eastern Star, Inc.
X-ORIGINAL-URL:https://ctoes.org
X-WR-CALDESC:Events for The Grand Chapter of Connecticut, Order of the Eastern Star, Inc.
REFRESH-INTERVAL;VALUE=DURATION:PT1H
X-Robots-Tag:noindex
X-PUBLISHED-TTL:PT1H
BEGIN:VTIMEZONE
TZID:America/New_York
BEGIN:DAYLIGHT
TZOFFSETFROM:-0500
TZOFFSETTO:-0400
TZNAME:EDT
DTSTART:20240310T070000
END:DAYLIGHT
BEGIN:STANDARD
TZOFFSETFROM:-0400
TZOFFSETTO:-0500
TZNAME:EST
DTSTART:20241103T060000
END:STANDARD
BEGIN:DAYLIGHT
TZOFFSETFROM:-0500
TZOFFSETTO:-0400
TZNAME:EDT
DTSTART:20250309T070000
END:DAYLIGHT
BEGIN:STANDARD
TZOFFSETFROM:-0400
TZOFFSETTO:-0500
TZNAME:EST
DTSTART:20251102T060000
END:STANDARD
BEGIN:DAYLIGHT
TZOFFSETFROM:-0500
TZOFFSETTO:-0400
TZNAME:EDT
DTSTART:20260308T070000
END:DAYLIGHT
BEGIN:STANDARD
TZOFFSETFROM:-0400
TZOFFSETTO:-0500
TZNAME:EST
DTSTART:20261101T060000
END:STANDARD
END:VTIMEZONE
BEGIN:VEVENT
DTSTART;TZID=America/New_York:20250221T180000
DTEND;TZID=America/New_York:20250222T170000
DTSTAMP:20260425T083251
CREATED:20240827T150436Z
LAST-MODIFIED:20241119T173507Z
UID:2629-1740160800-1740243600@ctoes.org
SUMMARY:Trek to NH CanAm 2025
DESCRIPTION:Event Details  ~   Event Registration  ~  Hotel Reservations
URL:https://ctoes.org/event/trek-to-nh-canam-2025
LOCATION:Sheraton Nashua\, 11 Tara Blvd\, Nashua\, New Hampshire\, 03062\, United States
CATEGORIES:Activity,Regional
END:VEVENT
END:VCALENDAR